BEGIN:VCALENDAR
VERSION:2.0
PRODID:-//Gemeinde Kropp - ECPv6.15.20//NONSGML v1.0//EN
CALSCALE:GREGORIAN
METHOD:PUBLISH
X-ORIGINAL-URL:https://kropp.de
X-WR-CALDESC:Veranstaltungen für Gemeinde Kropp
REFRESH-INTERVAL;VALUE=DURATION:PT1H
X-Robots-Tag:noindex
X-PUBLISHED-TTL:PT1H
BEGIN:VTIMEZONE
TZID:Europe/Berlin
BEGIN:DAYLIGHT
TZOFFSETFROM:+0100
TZOFFSETTO:+0200
TZNAME:CEST
DTSTART:20250330T010000
END:DAYLIGHT
BEGIN:STANDARD
TZOFFSETFROM:+0200
TZOFFSETTO:+0100
TZNAME:CET
DTSTART:20251026T010000
END:STANDARD
BEGIN:DAYLIGHT
TZOFFSETFROM:+0100
TZOFFSETTO:+0200
TZNAME:CEST
DTSTART:20260329T010000
END:DAYLIGHT
BEGIN:STANDARD
TZOFFSETFROM:+0200
TZOFFSETTO:+0100
TZNAME:CET
DTSTART:20261025T010000
END:STANDARD
BEGIN:DAYLIGHT
TZOFFSETFROM:+0100
TZOFFSETTO:+0200
TZNAME:CEST
DTSTART:20270328T010000
END:DAYLIGHT
BEGIN:STANDARD
TZOFFSETFROM:+0200
TZOFFSETTO:+0100
TZNAME:CET
DTSTART:20271031T010000
END:STANDARD
END:VTIMEZONE
BEGIN:VEVENT
DTSTART;TZID=Europe/Berlin:20260314T093000
DTEND;TZID=Europe/Berlin:20260314T153000
DTSTAMP:20260422T013701
CREATED:20260213T092125Z
LAST-MODIFIED:20260213T092125Z
UID:10007893-1773480600-1773502200@kropp.de
SUMMARY:Obstbaumschnittkurs
DESCRIPTION:Theorie & Praxis rund um den Obstbaumschnitt. \nAnmeldung bis 09.03.2026 an info@kunoev.net oder 04885-585
URL:https://kropp.de/veranstaltung/obstbaumschnittkurs/
LOCATION:Michael- Otto-Institut im NABU\, Goosstroot 1\,\, Bergenhusen\, 24861
ATTACH;FMTTYPE=image/png:https://kropp.de/wp-content/uploads/2026/02/Obstbaeume_mit_Anmeldedaten.png
ORGANIZER;CN="Lokale Aktion Kuno e.V":MAILTO:info@kunoev.net
END:VEVENT
BEGIN:VEVENT
DTSTART;TZID=Europe/Berlin:20260301T160000
DTEND;TZID=Europe/Berlin:20260301T190000
DTSTAMP:20260422T013701
CREATED:20260116T100155Z
LAST-MODIFIED:20260116T100155Z
UID:10006593-1772380800-1772391600@kropp.de
SUMMARY:Einblicke in das Leben der Zwergschwäne
DESCRIPTION:Fachvortrag rund um den Zwergschwan mit aktuellen Ergebnissen des Forschungsprojektes\, anschließend Exkursion mit Treckern und Planwagen (inkl. Heißgetränke). \nEine Anmeldung ist für die Teilnahme erforderlich!
URL:https://kropp.de/veranstaltung/einblicke-in-das-leben-der-zwergschwaene/2026-03-01/
LOCATION:Michael- Otto-Institut im NABU\, Goosstroot 1\,\, Bergenhusen\, 24861
ATTACH;FMTTYPE=image/png:https://kropp.de/wp-content/uploads/2026/01/Zwergschwanentage.png
ORGANIZER;CN="Lokale Aktion Kuno e.V":MAILTO:info@kunoev.net
END:VEVENT
BEGIN:VEVENT
DTSTART;TZID=Europe/Berlin:20260228T160000
DTEND;TZID=Europe/Berlin:20260228T190000
DTSTAMP:20260422T013701
CREATED:20260116T100155Z
LAST-MODIFIED:20260116T100155Z
UID:10006592-1772294400-1772305200@kropp.de
SUMMARY:Einblicke in das Leben der Zwergschwäne
DESCRIPTION:Fachvortrag rund um den Zwergschwan mit aktuellen Ergebnissen des Forschungsprojektes\, anschließend Exkursion mit Treckern und Planwagen (inkl. Heißgetränke). \nEine Anmeldung ist für die Teilnahme erforderlich!
URL:https://kropp.de/veranstaltung/einblicke-in-das-leben-der-zwergschwaene/2026-02-28/
LOCATION:Michael- Otto-Institut im NABU\, Goosstroot 1\,\, Bergenhusen\, 24861
ATTACH;FMTTYPE=image/png:https://kropp.de/wp-content/uploads/2026/01/Zwergschwanentage.png
ORGANIZER;CN="Lokale Aktion Kuno e.V":MAILTO:info@kunoev.net
END:VEVENT
BEGIN:VEVENT
DTSTART;TZID=Europe/Berlin:20260227T170000
DTEND;TZID=Europe/Berlin:20260227T190000
DTSTAMP:20260422T013701
CREATED:20260116T095959Z
LAST-MODIFIED:20260116T095959Z
UID:10006591-1772211600-1772218800@kropp.de
SUMMARY:Zwergschwäne entdecken - Planwagen-Tour durch ihre Rastgebiete
DESCRIPTION:Exkursion mit Treckern und Planwagen zu den Nahrungsflächen und zum Schlafgewässer (inkl. Heißgetränke) \nEine Anmeldung ist für die Teilnahme erforderlich!
URL:https://kropp.de/veranstaltung/zwergschwaene-entdecken-planwagen-tour-durch-ihre-rastgebiete/
LOCATION:Michael- Otto-Institut im NABU\, Goosstroot 1\,\, Bergenhusen\, 24861
ATTACH;FMTTYPE=image/png:https://kropp.de/wp-content/uploads/2026/01/Zwergschwanentage.png
ORGANIZER;CN="Lokale Aktion Kuno e.V":MAILTO:info@kunoev.net
END:VEVENT
END:VCALENDAR