BEGIN:VCALENDAR
VERSION:2.0
PRODID:-//Gemeinde Kropp - ECPv6.15.20//NONSGML v1.0//EN
CALSCALE:GREGORIAN
METHOD:PUBLISH
X-WR-CALNAME:Gemeinde Kropp
X-ORIGINAL-URL:https://kropp.de
X-WR-CALDESC:Veranstaltungen für Gemeinde Kropp
REFRESH-INTERVAL;VALUE=DURATION:PT1H
X-Robots-Tag:noindex
X-PUBLISHED-TTL:PT1H
BEGIN:VTIMEZONE
TZID:Europe/Berlin
BEGIN:DAYLIGHT
TZOFFSETFROM:+0100
TZOFFSETTO:+0200
TZNAME:CEST
DTSTART:20250330T010000
END:DAYLIGHT
BEGIN:STANDARD
TZOFFSETFROM:+0200
TZOFFSETTO:+0100
TZNAME:CET
DTSTART:20251026T010000
END:STANDARD
BEGIN:DAYLIGHT
TZOFFSETFROM:+0100
TZOFFSETTO:+0200
TZNAME:CEST
DTSTART:20260329T010000
END:DAYLIGHT
BEGIN:STANDARD
TZOFFSETFROM:+0200
TZOFFSETTO:+0100
TZNAME:CET
DTSTART:20261025T010000
END:STANDARD
BEGIN:DAYLIGHT
TZOFFSETFROM:+0100
TZOFFSETTO:+0200
TZNAME:CEST
DTSTART:20270328T010000
END:DAYLIGHT
BEGIN:STANDARD
TZOFFSETFROM:+0200
TZOFFSETTO:+0100
TZNAME:CET
DTSTART:20271031T010000
END:STANDARD
END:VTIMEZONE
BEGIN:VEVENT
DTSTART;TZID=Europe/Berlin:20260410T140000
DTEND;TZID=Europe/Berlin:20260410T170000
DTSTAMP:20260423T113133
CREATED:20260317T082648Z
LAST-MODIFIED:20260407T083945Z
UID:10009412-1775829600-1775840400@kropp.de
SUMMARY:Bergenhusen:  Moorforschertag
DESCRIPTION:10.04.2026\, 14–17 Uhr: Moorforschertag \nDas Moor ist ein besonderer und schützenswerter Lebensraum\, doch keinesfalls gruselig! Es gibt viel zu entdecken und zu lernen\, zum Beispiel über fleischfressende Pflanzen oder Wasser\, das so sauer ist wie Zitronensaft. Lasst und gemeinsam experimentieren\, forschen und spielerisch diesen Lebensraum entdecken! Für Kinder zwischen 8 und 12 Jahren.\nKosten: 10 € pro Kind\, Anmeldung erforderlich\nBitte mitbringen: Gummistiefel\, ggf. Regenhose und wetterfeste Kleidung\, Proviant für ein Picknick
URL:https://kropp.de/veranstaltung/bergenhusen-moorforschertag/
LOCATION:NABU\, Michael-Otto-Institut im NABU\, Goosstroot 1\, Bergenhusen\, SH\, 24861\, Deutschland
CATEGORIES:Michael-Otto-Institut im NABU
END:VEVENT
END:VCALENDAR