BEGIN:VCALENDAR
VERSION:2.0
PRODID:-//Gemeinde Kropp - ECPv6.15.20//NONSGML v1.0//EN
CALSCALE:GREGORIAN
METHOD:PUBLISH
X-ORIGINAL-URL:https://kropp.de
X-WR-CALDESC:Veranstaltungen für Gemeinde Kropp
REFRESH-INTERVAL;VALUE=DURATION:PT1H
X-Robots-Tag:noindex
X-PUBLISHED-TTL:PT1H
BEGIN:VTIMEZONE
TZID:Europe/Berlin
BEGIN:DAYLIGHT
TZOFFSETFROM:+0100
TZOFFSETTO:+0200
TZNAME:CEST
DTSTART:20250330T010000
END:DAYLIGHT
BEGIN:STANDARD
TZOFFSETFROM:+0200
TZOFFSETTO:+0100
TZNAME:CET
DTSTART:20251026T010000
END:STANDARD
BEGIN:DAYLIGHT
TZOFFSETFROM:+0100
TZOFFSETTO:+0200
TZNAME:CEST
DTSTART:20260329T010000
END:DAYLIGHT
BEGIN:STANDARD
TZOFFSETFROM:+0200
TZOFFSETTO:+0100
TZNAME:CET
DTSTART:20261025T010000
END:STANDARD
BEGIN:DAYLIGHT
TZOFFSETFROM:+0100
TZOFFSETTO:+0200
TZNAME:CEST
DTSTART:20270328T010000
END:DAYLIGHT
BEGIN:STANDARD
TZOFFSETFROM:+0200
TZOFFSETTO:+0100
TZNAME:CET
DTSTART:20271031T010000
END:STANDARD
END:VTIMEZONE
BEGIN:VEVENT
DTSTART;TZID=Europe/Berlin:20260419T150000
DTEND;TZID=Europe/Berlin:20260419T180000
DTSTAMP:20260424T125357
CREATED:20260204T072827Z
LAST-MODIFIED:20260204T073117Z
UID:10007326-1776610800-1776621600@kropp.de
SUMMARY:Frühjahrskonzert der Big Band Kropp
DESCRIPTION:Die Big Band der FFW Kropp lädt zum jährlichen Frühjahrskonzert ein.
URL:https://kropp.de/veranstaltung/fruehjahrskonzert-der-big-band-kropp/
LOCATION:Neue Aula Geestlandschule\, Zugang über Stettiner Str.\, Kropp\, 24848
ATTACH;FMTTYPE=image/jpeg:https://kropp.de/wp-content/uploads/2025/11/Big_Band_FFW_Kropp.jpg
END:VEVENT
BEGIN:VEVENT
DTSTART;TZID=Europe/Berlin:20260320T190000
DTEND;TZID=Europe/Berlin:20260320T230000
DTSTAMP:20260424T125357
CREATED:20260112T115601Z
LAST-MODIFIED:20260112T120047Z
UID:10006547-1774033200-1774047600@kropp.de
SUMMARY:Kinoabend mit dem Wohlder Dorfkrimi: Kein schöner Tod II
DESCRIPTION:Der Stapelholmer Dorfkrimi erzählt mit viel augenzwinkerndem\, typisch norddeutschem Humor eine spannende\, zeitgemäße Geschichte. Idyllische Landschaftsaufnahmen\, zwei und vierbeinige Stapelholmer Originale\, spontan improvisierte\, spritzige Dialoge und gruselige Krimidetails sorgen mühelos für beste Unterhaltung in Spielfilmlänge. Gedreht in Wohlde und Umgebung\nKarten im Vorverkauf bei der https://tickets.amt-ks.de/ keinschoenertod/AVHS oder https://tickets.amt-ks.de/ keinschoenertod/
URL:https://kropp.de/veranstaltung/kinoabend-mit-dem-wohlder-dorfkrimi-kein-schoener-tod-ii/
LOCATION:Neue Aula Geestlandschule\, Zugang über Stettiner Str.\, Kropp\, 24848
ATTACH;FMTTYPE=image/jpeg:https://kropp.de/wp-content/uploads/2026/01/Kein-schoener-Tod.jpg
ORGANIZER;CN="AVHS Kropp-Stapelholm":MAILTO:avhs@amt-ks.de
END:VEVENT
BEGIN:VEVENT
DTSTART;TZID=Europe/Berlin:20260223T150000
DTEND;TZID=Europe/Berlin:20260223T193000
DTSTAMP:20260424T125357
CREATED:20260112T124919Z
LAST-MODIFIED:20260112T125159Z
UID:10006557-1771858800-1771875000@kropp.de
SUMMARY:Blutspende Kropp
DESCRIPTION:DRK Kropp bittet Blutspender weiterhin um Terminreservierung \nUm einen reibungslosen Ablauf auf den Blutspendeterminen zu gewährleisten\, wird darauf hingewiesen\, dass eine Blutspende auch weiterhin nur über eine Terminreservierung möglich ist. Das kann über die Website www.blutspende-nordost.de oder über die kostenlose Hotline 0800 1194911 vorgenommen werden. Zur Blutspende ist der Personalausweis mitzubringen. \nIm Anschluss gibt es einen schmackhaften Imbiss.
URL:https://kropp.de/veranstaltung/blutspende-kropp/
LOCATION:Neue Aula Geestlandschule\, Zugang über Stettiner Str.\, Kropp\, 24848
ATTACH;FMTTYPE=image/jpeg:https://kropp.de/wp-content/uploads/2025/12/Logo-DRK.jpg
END:VEVENT
END:VCALENDAR