BEGIN:VCALENDAR
VERSION:2.0
PRODID:-//Gemeinde Kropp - ECPv6.15.20//NONSGML v1.0//EN
CALSCALE:GREGORIAN
METHOD:PUBLISH
X-ORIGINAL-URL:https://kropp.de
X-WR-CALDESC:Veranstaltungen für Gemeinde Kropp
REFRESH-INTERVAL;VALUE=DURATION:PT1H
X-Robots-Tag:noindex
X-PUBLISHED-TTL:PT1H
BEGIN:VTIMEZONE
TZID:Europe/Berlin
BEGIN:DAYLIGHT
TZOFFSETFROM:+0100
TZOFFSETTO:+0200
TZNAME:CEST
DTSTART:20250330T010000
END:DAYLIGHT
BEGIN:STANDARD
TZOFFSETFROM:+0200
TZOFFSETTO:+0100
TZNAME:CET
DTSTART:20251026T010000
END:STANDARD
BEGIN:DAYLIGHT
TZOFFSETFROM:+0100
TZOFFSETTO:+0200
TZNAME:CEST
DTSTART:20260329T010000
END:DAYLIGHT
BEGIN:STANDARD
TZOFFSETFROM:+0200
TZOFFSETTO:+0100
TZNAME:CET
DTSTART:20261025T010000
END:STANDARD
BEGIN:DAYLIGHT
TZOFFSETFROM:+0100
TZOFFSETTO:+0200
TZNAME:CEST
DTSTART:20270328T010000
END:DAYLIGHT
BEGIN:STANDARD
TZOFFSETFROM:+0200
TZOFFSETTO:+0100
TZNAME:CET
DTSTART:20271031T010000
END:STANDARD
BEGIN:DAYLIGHT
TZOFFSETFROM:+0100
TZOFFSETTO:+0200
TZNAME:CEST
DTSTART:20280326T010000
END:DAYLIGHT
BEGIN:STANDARD
TZOFFSETFROM:+0200
TZOFFSETTO:+0100
TZNAME:CET
DTSTART:20281029T010000
END:STANDARD
BEGIN:DAYLIGHT
TZOFFSETFROM:+0100
TZOFFSETTO:+0200
TZNAME:CEST
DTSTART:20290325T010000
END:DAYLIGHT
BEGIN:STANDARD
TZOFFSETFROM:+0200
TZOFFSETTO:+0100
TZNAME:CET
DTSTART:20291028T010000
END:STANDARD
END:VTIMEZONE
BEGIN:VEVENT
DTSTART;TZID=Europe/Berlin:20260506T150000
DTEND;TZID=Europe/Berlin:20260506T160000
DTSTAMP:20260421T035027
CREATED:20260210T093854Z
LAST-MODIFIED:20260210T093854Z
UID:10007666-1778079600-1778083200@kropp.de
SUMMARY:Kindertreff Alt Bennebek
DESCRIPTION:Alle Kinder\, ab der ersten Klasse sind herzlich eingeladen – zum Spielen\, Basteln\, Malen u.v.m.\nEine Vorabanmeldung ist nicht nötig.\nKommt einfach vorbei.\nBitte habt immer einen Euro parat\, falls Materialkosten anfallen sollten.
URL:https://kropp.de/veranstaltung/kindertreff-alt-bennebek/2026-05-06/
LOCATION:Ole School Alt Bennebek\, Osterende 23\, Alt Bennebek\, 24848
ATTACH;FMTTYPE=image/jpeg:https://kropp.de/wp-content/uploads/2026/02/Kinder-_und_Jugendtreff.jpg
ORGANIZER;CN="Gemeinde Kropp":MAILTO:info@amt-ks.de
END:VEVENT
BEGIN:VEVENT
DTSTART;TZID=Europe/Berlin:20260517T100000
DTEND;TZID=Europe/Berlin:20260517T120000
DTSTAMP:20260421T035027
CREATED:20260123T095250Z
LAST-MODIFIED:20260123T095250Z
UID:10006672-1779012000-1779019200@kropp.de
SUMMARY:Stammtisch Alt Bennebek
DESCRIPTION:Jeden dritten Samstag wird in der Ole School ein Stammtisch für alle Interessierten zum Schnack und Klönen angeboten.
URL:https://kropp.de/veranstaltung/stammtisch-alt-bennebek/2026-05-17/
LOCATION:Ole School Alt Bennebek\, Osterende 23\, Alt Bennebek\, 24848
ATTACH;FMTTYPE=image/jpeg:https://kropp.de/wp-content/uploads/2025/09/Amt-240.jpg
END:VEVENT
BEGIN:VEVENT
DTSTART;TZID=Europe/Berlin:20260527T150000
DTEND;TZID=Europe/Berlin:20260527T160000
DTSTAMP:20260421T035027
CREATED:20260210T093854Z
LAST-MODIFIED:20260210T093854Z
UID:10007667-1779894000-1779897600@kropp.de
SUMMARY:Kindertreff Alt Bennebek
DESCRIPTION:Alle Kinder\, ab der ersten Klasse sind herzlich eingeladen – zum Spielen\, Basteln\, Malen u.v.m.\nEine Vorabanmeldung ist nicht nötig.\nKommt einfach vorbei.\nBitte habt immer einen Euro parat\, falls Materialkosten anfallen sollten.
URL:https://kropp.de/veranstaltung/kindertreff-alt-bennebek/2026-05-27/
LOCATION:Ole School Alt Bennebek\, Osterende 23\, Alt Bennebek\, 24848
ATTACH;FMTTYPE=image/jpeg:https://kropp.de/wp-content/uploads/2026/02/Kinder-_und_Jugendtreff.jpg
ORGANIZER;CN="Gemeinde Kropp":MAILTO:info@amt-ks.de
END:VEVENT
BEGIN:VEVENT
DTSTART;TZID=Europe/Berlin:20260621T100000
DTEND;TZID=Europe/Berlin:20260621T120000
DTSTAMP:20260421T035027
CREATED:20260123T095250Z
LAST-MODIFIED:20260123T095250Z
UID:10006673-1782036000-1782043200@kropp.de
SUMMARY:Stammtisch Alt Bennebek
DESCRIPTION:Jeden dritten Samstag wird in der Ole School ein Stammtisch für alle Interessierten zum Schnack und Klönen angeboten.
URL:https://kropp.de/veranstaltung/stammtisch-alt-bennebek/2026-06-21/
LOCATION:Ole School Alt Bennebek\, Osterende 23\, Alt Bennebek\, 24848
ATTACH;FMTTYPE=image/jpeg:https://kropp.de/wp-content/uploads/2025/09/Amt-240.jpg
END:VEVENT
BEGIN:VEVENT
DTSTART;TZID=Europe/Berlin:20260719T100000
DTEND;TZID=Europe/Berlin:20260719T120000
DTSTAMP:20260421T035027
CREATED:20260123T095250Z
LAST-MODIFIED:20260123T095250Z
UID:10006674-1784455200-1784462400@kropp.de
SUMMARY:Stammtisch Alt Bennebek
DESCRIPTION:Jeden dritten Samstag wird in der Ole School ein Stammtisch für alle Interessierten zum Schnack und Klönen angeboten.
URL:https://kropp.de/veranstaltung/stammtisch-alt-bennebek/2026-07-19/
LOCATION:Ole School Alt Bennebek\, Osterende 23\, Alt Bennebek\, 24848
ATTACH;FMTTYPE=image/jpeg:https://kropp.de/wp-content/uploads/2025/09/Amt-240.jpg
END:VEVENT
BEGIN:VEVENT
DTSTART;TZID=Europe/Berlin:20260816T100000
DTEND;TZID=Europe/Berlin:20260816T120000
DTSTAMP:20260421T035027
CREATED:20260123T095250Z
LAST-MODIFIED:20260123T095250Z
UID:10006675-1786874400-1786881600@kropp.de
SUMMARY:Stammtisch Alt Bennebek
DESCRIPTION:Jeden dritten Samstag wird in der Ole School ein Stammtisch für alle Interessierten zum Schnack und Klönen angeboten.
URL:https://kropp.de/veranstaltung/stammtisch-alt-bennebek/2026-08-16/
LOCATION:Ole School Alt Bennebek\, Osterende 23\, Alt Bennebek\, 24848
ATTACH;FMTTYPE=image/jpeg:https://kropp.de/wp-content/uploads/2025/09/Amt-240.jpg
END:VEVENT
BEGIN:VEVENT
DTSTART;TZID=Europe/Berlin:20260920T100000
DTEND;TZID=Europe/Berlin:20260920T120000
DTSTAMP:20260421T035027
CREATED:20260123T095250Z
LAST-MODIFIED:20260123T095250Z
UID:10006676-1789898400-1789905600@kropp.de
SUMMARY:Stammtisch Alt Bennebek
DESCRIPTION:Jeden dritten Samstag wird in der Ole School ein Stammtisch für alle Interessierten zum Schnack und Klönen angeboten.
URL:https://kropp.de/veranstaltung/stammtisch-alt-bennebek/2026-09-20/
LOCATION:Ole School Alt Bennebek\, Osterende 23\, Alt Bennebek\, 24848
ATTACH;FMTTYPE=image/jpeg:https://kropp.de/wp-content/uploads/2025/09/Amt-240.jpg
END:VEVENT
BEGIN:VEVENT
DTSTART;TZID=Europe/Berlin:20261018T100000
DTEND;TZID=Europe/Berlin:20261018T120000
DTSTAMP:20260421T035027
CREATED:20260123T095250Z
LAST-MODIFIED:20260123T095250Z
UID:10006677-1792317600-1792324800@kropp.de
SUMMARY:Stammtisch Alt Bennebek
DESCRIPTION:Jeden dritten Samstag wird in der Ole School ein Stammtisch für alle Interessierten zum Schnack und Klönen angeboten.
URL:https://kropp.de/veranstaltung/stammtisch-alt-bennebek/2026-10-18/
LOCATION:Ole School Alt Bennebek\, Osterende 23\, Alt Bennebek\, 24848
ATTACH;FMTTYPE=image/jpeg:https://kropp.de/wp-content/uploads/2025/09/Amt-240.jpg
END:VEVENT
BEGIN:VEVENT
DTSTART;TZID=Europe/Berlin:20261115T100000
DTEND;TZID=Europe/Berlin:20261115T120000
DTSTAMP:20260421T035027
CREATED:20260123T095250Z
LAST-MODIFIED:20260123T095250Z
UID:10006678-1794736800-1794744000@kropp.de
SUMMARY:Stammtisch Alt Bennebek
DESCRIPTION:Jeden dritten Samstag wird in der Ole School ein Stammtisch für alle Interessierten zum Schnack und Klönen angeboten.
URL:https://kropp.de/veranstaltung/stammtisch-alt-bennebek/2026-11-15/
LOCATION:Ole School Alt Bennebek\, Osterende 23\, Alt Bennebek\, 24848
ATTACH;FMTTYPE=image/jpeg:https://kropp.de/wp-content/uploads/2025/09/Amt-240.jpg
END:VEVENT
BEGIN:VEVENT
DTSTART;TZID=Europe/Berlin:20261220T100000
DTEND;TZID=Europe/Berlin:20261220T120000
DTSTAMP:20260421T035027
CREATED:20260123T095250Z
LAST-MODIFIED:20260123T095250Z
UID:10006679-1797760800-1797768000@kropp.de
SUMMARY:Stammtisch Alt Bennebek
DESCRIPTION:Jeden dritten Samstag wird in der Ole School ein Stammtisch für alle Interessierten zum Schnack und Klönen angeboten.
URL:https://kropp.de/veranstaltung/stammtisch-alt-bennebek/2026-12-20/
LOCATION:Ole School Alt Bennebek\, Osterende 23\, Alt Bennebek\, 24848
ATTACH;FMTTYPE=image/jpeg:https://kropp.de/wp-content/uploads/2025/09/Amt-240.jpg
END:VEVENT
BEGIN:VEVENT
DTSTART;TZID=Europe/Berlin:20270117T100000
DTEND;TZID=Europe/Berlin:20270117T120000
DTSTAMP:20260421T035027
CREATED:20260123T095250Z
LAST-MODIFIED:20260123T095250Z
UID:10006680-1800180000-1800187200@kropp.de
SUMMARY:Stammtisch Alt Bennebek
DESCRIPTION:Jeden dritten Samstag wird in der Ole School ein Stammtisch für alle Interessierten zum Schnack und Klönen angeboten.
URL:https://kropp.de/veranstaltung/stammtisch-alt-bennebek/2027-01-17/
LOCATION:Ole School Alt Bennebek\, Osterende 23\, Alt Bennebek\, 24848
ATTACH;FMTTYPE=image/jpeg:https://kropp.de/wp-content/uploads/2025/09/Amt-240.jpg
END:VEVENT
BEGIN:VEVENT
DTSTART;TZID=Europe/Berlin:20270221T100000
DTEND;TZID=Europe/Berlin:20270221T120000
DTSTAMP:20260421T035027
CREATED:20260123T095250Z
LAST-MODIFIED:20260123T095250Z
UID:10006681-1803204000-1803211200@kropp.de
SUMMARY:Stammtisch Alt Bennebek
DESCRIPTION:Jeden dritten Samstag wird in der Ole School ein Stammtisch für alle Interessierten zum Schnack und Klönen angeboten.
URL:https://kropp.de/veranstaltung/stammtisch-alt-bennebek/2027-02-21/
LOCATION:Ole School Alt Bennebek\, Osterende 23\, Alt Bennebek\, 24848
ATTACH;FMTTYPE=image/jpeg:https://kropp.de/wp-content/uploads/2025/09/Amt-240.jpg
END:VEVENT
BEGIN:VEVENT
DTSTART;TZID=Europe/Berlin:20270321T100000
DTEND;TZID=Europe/Berlin:20270321T120000
DTSTAMP:20260421T035027
CREATED:20260123T095250Z
LAST-MODIFIED:20260123T095250Z
UID:10006682-1805623200-1805630400@kropp.de
SUMMARY:Stammtisch Alt Bennebek
DESCRIPTION:Jeden dritten Samstag wird in der Ole School ein Stammtisch für alle Interessierten zum Schnack und Klönen angeboten.
URL:https://kropp.de/veranstaltung/stammtisch-alt-bennebek/2027-03-21/
LOCATION:Ole School Alt Bennebek\, Osterende 23\, Alt Bennebek\, 24848
ATTACH;FMTTYPE=image/jpeg:https://kropp.de/wp-content/uploads/2025/09/Amt-240.jpg
END:VEVENT
BEGIN:VEVENT
DTSTART;TZID=Europe/Berlin:20270418T100000
DTEND;TZID=Europe/Berlin:20270418T120000
DTSTAMP:20260421T035027
CREATED:20260123T095250Z
LAST-MODIFIED:20260123T095250Z
UID:10006683-1808042400-1808049600@kropp.de
SUMMARY:Stammtisch Alt Bennebek
DESCRIPTION:Jeden dritten Samstag wird in der Ole School ein Stammtisch für alle Interessierten zum Schnack und Klönen angeboten.
URL:https://kropp.de/veranstaltung/stammtisch-alt-bennebek/2027-04-18/
LOCATION:Ole School Alt Bennebek\, Osterende 23\, Alt Bennebek\, 24848
ATTACH;FMTTYPE=image/jpeg:https://kropp.de/wp-content/uploads/2025/09/Amt-240.jpg
END:VEVENT
BEGIN:VEVENT
DTSTART;TZID=Europe/Berlin:20270516T100000
DTEND;TZID=Europe/Berlin:20270516T120000
DTSTAMP:20260421T035027
CREATED:20260123T095250Z
LAST-MODIFIED:20260123T095250Z
UID:10006684-1810461600-1810468800@kropp.de
SUMMARY:Stammtisch Alt Bennebek
DESCRIPTION:Jeden dritten Samstag wird in der Ole School ein Stammtisch für alle Interessierten zum Schnack und Klönen angeboten.
URL:https://kropp.de/veranstaltung/stammtisch-alt-bennebek/2027-05-16/
LOCATION:Ole School Alt Bennebek\, Osterende 23\, Alt Bennebek\, 24848
ATTACH;FMTTYPE=image/jpeg:https://kropp.de/wp-content/uploads/2025/09/Amt-240.jpg
END:VEVENT
BEGIN:VEVENT
DTSTART;TZID=Europe/Berlin:20270620T100000
DTEND;TZID=Europe/Berlin:20270620T120000
DTSTAMP:20260421T035027
CREATED:20260123T095250Z
LAST-MODIFIED:20260123T095250Z
UID:10006685-1813485600-1813492800@kropp.de
SUMMARY:Stammtisch Alt Bennebek
DESCRIPTION:Jeden dritten Samstag wird in der Ole School ein Stammtisch für alle Interessierten zum Schnack und Klönen angeboten.
URL:https://kropp.de/veranstaltung/stammtisch-alt-bennebek/2027-06-20/
LOCATION:Ole School Alt Bennebek\, Osterende 23\, Alt Bennebek\, 24848
ATTACH;FMTTYPE=image/jpeg:https://kropp.de/wp-content/uploads/2025/09/Amt-240.jpg
END:VEVENT
BEGIN:VEVENT
DTSTART;TZID=Europe/Berlin:20270718T100000
DTEND;TZID=Europe/Berlin:20270718T120000
DTSTAMP:20260421T035027
CREATED:20260123T095250Z
LAST-MODIFIED:20260123T095250Z
UID:10006686-1815904800-1815912000@kropp.de
SUMMARY:Stammtisch Alt Bennebek
DESCRIPTION:Jeden dritten Samstag wird in der Ole School ein Stammtisch für alle Interessierten zum Schnack und Klönen angeboten.
URL:https://kropp.de/veranstaltung/stammtisch-alt-bennebek/2027-07-18/
LOCATION:Ole School Alt Bennebek\, Osterende 23\, Alt Bennebek\, 24848
ATTACH;FMTTYPE=image/jpeg:https://kropp.de/wp-content/uploads/2025/09/Amt-240.jpg
END:VEVENT
BEGIN:VEVENT
DTSTART;TZID=Europe/Berlin:20270815T100000
DTEND;TZID=Europe/Berlin:20270815T120000
DTSTAMP:20260421T035027
CREATED:20260123T095250Z
LAST-MODIFIED:20260123T095250Z
UID:10006687-1818324000-1818331200@kropp.de
SUMMARY:Stammtisch Alt Bennebek
DESCRIPTION:Jeden dritten Samstag wird in der Ole School ein Stammtisch für alle Interessierten zum Schnack und Klönen angeboten.
URL:https://kropp.de/veranstaltung/stammtisch-alt-bennebek/2027-08-15/
LOCATION:Ole School Alt Bennebek\, Osterende 23\, Alt Bennebek\, 24848
ATTACH;FMTTYPE=image/jpeg:https://kropp.de/wp-content/uploads/2025/09/Amt-240.jpg
END:VEVENT
BEGIN:VEVENT
DTSTART;TZID=Europe/Berlin:20270919T100000
DTEND;TZID=Europe/Berlin:20270919T120000
DTSTAMP:20260421T035027
CREATED:20260123T095250Z
LAST-MODIFIED:20260123T095250Z
UID:10006688-1821348000-1821355200@kropp.de
SUMMARY:Stammtisch Alt Bennebek
DESCRIPTION:Jeden dritten Samstag wird in der Ole School ein Stammtisch für alle Interessierten zum Schnack und Klönen angeboten.
URL:https://kropp.de/veranstaltung/stammtisch-alt-bennebek/2027-09-19/
LOCATION:Ole School Alt Bennebek\, Osterende 23\, Alt Bennebek\, 24848
ATTACH;FMTTYPE=image/jpeg:https://kropp.de/wp-content/uploads/2025/09/Amt-240.jpg
END:VEVENT
BEGIN:VEVENT
DTSTART;TZID=Europe/Berlin:20271017T100000
DTEND;TZID=Europe/Berlin:20271017T120000
DTSTAMP:20260421T035027
CREATED:20260123T095250Z
LAST-MODIFIED:20260123T095250Z
UID:10006689-1823767200-1823774400@kropp.de
SUMMARY:Stammtisch Alt Bennebek
DESCRIPTION:Jeden dritten Samstag wird in der Ole School ein Stammtisch für alle Interessierten zum Schnack und Klönen angeboten.
URL:https://kropp.de/veranstaltung/stammtisch-alt-bennebek/2027-10-17/
LOCATION:Ole School Alt Bennebek\, Osterende 23\, Alt Bennebek\, 24848
ATTACH;FMTTYPE=image/jpeg:https://kropp.de/wp-content/uploads/2025/09/Amt-240.jpg
END:VEVENT
BEGIN:VEVENT
DTSTART;TZID=Europe/Berlin:20271121T100000
DTEND;TZID=Europe/Berlin:20271121T120000
DTSTAMP:20260421T035027
CREATED:20260123T095250Z
LAST-MODIFIED:20260123T095250Z
UID:10006690-1826791200-1826798400@kropp.de
SUMMARY:Stammtisch Alt Bennebek
DESCRIPTION:Jeden dritten Samstag wird in der Ole School ein Stammtisch für alle Interessierten zum Schnack und Klönen angeboten.
URL:https://kropp.de/veranstaltung/stammtisch-alt-bennebek/2027-11-21/
LOCATION:Ole School Alt Bennebek\, Osterende 23\, Alt Bennebek\, 24848
ATTACH;FMTTYPE=image/jpeg:https://kropp.de/wp-content/uploads/2025/09/Amt-240.jpg
END:VEVENT
BEGIN:VEVENT
DTSTART;TZID=Europe/Berlin:20271219T100000
DTEND;TZID=Europe/Berlin:20271219T120000
DTSTAMP:20260421T035027
CREATED:20260123T095250Z
LAST-MODIFIED:20260123T095250Z
UID:10006691-1829210400-1829217600@kropp.de
SUMMARY:Stammtisch Alt Bennebek
DESCRIPTION:Jeden dritten Samstag wird in der Ole School ein Stammtisch für alle Interessierten zum Schnack und Klönen angeboten.
URL:https://kropp.de/veranstaltung/stammtisch-alt-bennebek/2027-12-19/
LOCATION:Ole School Alt Bennebek\, Osterende 23\, Alt Bennebek\, 24848
ATTACH;FMTTYPE=image/jpeg:https://kropp.de/wp-content/uploads/2025/09/Amt-240.jpg
END:VEVENT
BEGIN:VEVENT
DTSTART;TZID=Europe/Berlin:20280116T100000
DTEND;TZID=Europe/Berlin:20280116T120000
DTSTAMP:20260421T035027
CREATED:20260123T095250Z
LAST-MODIFIED:20260123T095250Z
UID:10006692-1831629600-1831636800@kropp.de
SUMMARY:Stammtisch Alt Bennebek
DESCRIPTION:Jeden dritten Samstag wird in der Ole School ein Stammtisch für alle Interessierten zum Schnack und Klönen angeboten.
URL:https://kropp.de/veranstaltung/stammtisch-alt-bennebek/2028-01-16/
LOCATION:Ole School Alt Bennebek\, Osterende 23\, Alt Bennebek\, 24848
ATTACH;FMTTYPE=image/jpeg:https://kropp.de/wp-content/uploads/2025/09/Amt-240.jpg
END:VEVENT
BEGIN:VEVENT
DTSTART;TZID=Europe/Berlin:20280220T100000
DTEND;TZID=Europe/Berlin:20280220T120000
DTSTAMP:20260421T035027
CREATED:20260123T095250Z
LAST-MODIFIED:20260123T095250Z
UID:10006693-1834653600-1834660800@kropp.de
SUMMARY:Stammtisch Alt Bennebek
DESCRIPTION:Jeden dritten Samstag wird in der Ole School ein Stammtisch für alle Interessierten zum Schnack und Klönen angeboten.
URL:https://kropp.de/veranstaltung/stammtisch-alt-bennebek/2028-02-20/
LOCATION:Ole School Alt Bennebek\, Osterende 23\, Alt Bennebek\, 24848
ATTACH;FMTTYPE=image/jpeg:https://kropp.de/wp-content/uploads/2025/09/Amt-240.jpg
END:VEVENT
BEGIN:VEVENT
DTSTART;TZID=Europe/Berlin:20280319T100000
DTEND;TZID=Europe/Berlin:20280319T120000
DTSTAMP:20260421T035027
CREATED:20260123T095250Z
LAST-MODIFIED:20260123T095250Z
UID:10006694-1837072800-1837080000@kropp.de
SUMMARY:Stammtisch Alt Bennebek
DESCRIPTION:Jeden dritten Samstag wird in der Ole School ein Stammtisch für alle Interessierten zum Schnack und Klönen angeboten.
URL:https://kropp.de/veranstaltung/stammtisch-alt-bennebek/2028-03-19/
LOCATION:Ole School Alt Bennebek\, Osterende 23\, Alt Bennebek\, 24848
ATTACH;FMTTYPE=image/jpeg:https://kropp.de/wp-content/uploads/2025/09/Amt-240.jpg
END:VEVENT
BEGIN:VEVENT
DTSTART;TZID=Europe/Berlin:20280416T100000
DTEND;TZID=Europe/Berlin:20280416T120000
DTSTAMP:20260421T035027
CREATED:20260123T095250Z
LAST-MODIFIED:20260123T095250Z
UID:10006695-1839492000-1839499200@kropp.de
SUMMARY:Stammtisch Alt Bennebek
DESCRIPTION:Jeden dritten Samstag wird in der Ole School ein Stammtisch für alle Interessierten zum Schnack und Klönen angeboten.
URL:https://kropp.de/veranstaltung/stammtisch-alt-bennebek/2028-04-16/
LOCATION:Ole School Alt Bennebek\, Osterende 23\, Alt Bennebek\, 24848
ATTACH;FMTTYPE=image/jpeg:https://kropp.de/wp-content/uploads/2025/09/Amt-240.jpg
END:VEVENT
BEGIN:VEVENT
DTSTART;TZID=Europe/Berlin:20280521T100000
DTEND;TZID=Europe/Berlin:20280521T120000
DTSTAMP:20260421T035027
CREATED:20260123T095250Z
LAST-MODIFIED:20260123T095250Z
UID:10006696-1842516000-1842523200@kropp.de
SUMMARY:Stammtisch Alt Bennebek
DESCRIPTION:Jeden dritten Samstag wird in der Ole School ein Stammtisch für alle Interessierten zum Schnack und Klönen angeboten.
URL:https://kropp.de/veranstaltung/stammtisch-alt-bennebek/2028-05-21/
LOCATION:Ole School Alt Bennebek\, Osterende 23\, Alt Bennebek\, 24848
ATTACH;FMTTYPE=image/jpeg:https://kropp.de/wp-content/uploads/2025/09/Amt-240.jpg
END:VEVENT
BEGIN:VEVENT
DTSTART;TZID=Europe/Berlin:20280618T100000
DTEND;TZID=Europe/Berlin:20280618T120000
DTSTAMP:20260421T035027
CREATED:20260123T095250Z
LAST-MODIFIED:20260123T095250Z
UID:10006697-1844935200-1844942400@kropp.de
SUMMARY:Stammtisch Alt Bennebek
DESCRIPTION:Jeden dritten Samstag wird in der Ole School ein Stammtisch für alle Interessierten zum Schnack und Klönen angeboten.
URL:https://kropp.de/veranstaltung/stammtisch-alt-bennebek/2028-06-18/
LOCATION:Ole School Alt Bennebek\, Osterende 23\, Alt Bennebek\, 24848
ATTACH;FMTTYPE=image/jpeg:https://kropp.de/wp-content/uploads/2025/09/Amt-240.jpg
END:VEVENT
BEGIN:VEVENT
DTSTART;TZID=Europe/Berlin:20280716T100000
DTEND;TZID=Europe/Berlin:20280716T120000
DTSTAMP:20260421T035027
CREATED:20260123T095250Z
LAST-MODIFIED:20260123T095250Z
UID:10006698-1847354400-1847361600@kropp.de
SUMMARY:Stammtisch Alt Bennebek
DESCRIPTION:Jeden dritten Samstag wird in der Ole School ein Stammtisch für alle Interessierten zum Schnack und Klönen angeboten.
URL:https://kropp.de/veranstaltung/stammtisch-alt-bennebek/2028-07-16/
LOCATION:Ole School Alt Bennebek\, Osterende 23\, Alt Bennebek\, 24848
ATTACH;FMTTYPE=image/jpeg:https://kropp.de/wp-content/uploads/2025/09/Amt-240.jpg
END:VEVENT
BEGIN:VEVENT
DTSTART;TZID=Europe/Berlin:20280820T100000
DTEND;TZID=Europe/Berlin:20280820T120000
DTSTAMP:20260421T035027
CREATED:20260123T095250Z
LAST-MODIFIED:20260123T095250Z
UID:10006699-1850378400-1850385600@kropp.de
SUMMARY:Stammtisch Alt Bennebek
DESCRIPTION:Jeden dritten Samstag wird in der Ole School ein Stammtisch für alle Interessierten zum Schnack und Klönen angeboten.
URL:https://kropp.de/veranstaltung/stammtisch-alt-bennebek/2028-08-20/
LOCATION:Ole School Alt Bennebek\, Osterende 23\, Alt Bennebek\, 24848
ATTACH;FMTTYPE=image/jpeg:https://kropp.de/wp-content/uploads/2025/09/Amt-240.jpg
END:VEVENT
END:VCALENDAR