BEGIN:VCALENDAR
VERSION:2.0
PRODID:-//Gemeinde Kropp - ECPv6.15.20//NONSGML v1.0//EN
CALSCALE:GREGORIAN
METHOD:PUBLISH
X-ORIGINAL-URL:https://kropp.de
X-WR-CALDESC:Veranstaltungen für Gemeinde Kropp
REFRESH-INTERVAL;VALUE=DURATION:PT1H
X-Robots-Tag:noindex
X-PUBLISHED-TTL:PT1H
BEGIN:VTIMEZONE
TZID:Europe/Berlin
BEGIN:DAYLIGHT
TZOFFSETFROM:+0100
TZOFFSETTO:+0200
TZNAME:CEST
DTSTART:20250330T010000
END:DAYLIGHT
BEGIN:STANDARD
TZOFFSETFROM:+0200
TZOFFSETTO:+0100
TZNAME:CET
DTSTART:20251026T010000
END:STANDARD
BEGIN:DAYLIGHT
TZOFFSETFROM:+0100
TZOFFSETTO:+0200
TZNAME:CEST
DTSTART:20260329T010000
END:DAYLIGHT
BEGIN:STANDARD
TZOFFSETFROM:+0200
TZOFFSETTO:+0100
TZNAME:CET
DTSTART:20261025T010000
END:STANDARD
BEGIN:DAYLIGHT
TZOFFSETFROM:+0100
TZOFFSETTO:+0200
TZNAME:CEST
DTSTART:20270328T010000
END:DAYLIGHT
BEGIN:STANDARD
TZOFFSETFROM:+0200
TZOFFSETTO:+0100
TZNAME:CET
DTSTART:20271031T010000
END:STANDARD
END:VTIMEZONE
BEGIN:VEVENT
DTSTART;TZID=Europe/Berlin:20260424T160000
DTEND;TZID=Europe/Berlin:20260424T160000
DTSTAMP:20260423T150401
CREATED:20260331T083948Z
LAST-MODIFIED:20260421T083944Z
UID:10009660-1777046400-1777046400@kropp.de
SUMMARY:Bergenhusen:  Reitergemeinschaft   Arbeitsdienst
DESCRIPTION:
URL:https://kropp.de/veranstaltung/bergenhusen-reitergemeinschaft-arbeitsdienst-2/
LOCATION:Reithalle\, Stuten 5\, Bergenhusen\, 24861\, Deutschland
CATEGORIES:Vereinsaktivitäten
ATTACH;FMTTYPE=image/jpeg:https://kropp.de/wp-content/uploads/2026/03/logo_transparent-c757d3e4-84ef8e6f@160w-2t30TR.jpg
END:VEVENT
BEGIN:VEVENT
DTSTART;VALUE=DATE:20260425
DTEND;VALUE=DATE:20260427
DTSTAMP:20260423T150401
CREATED:20260331T083948Z
LAST-MODIFIED:20260421T083944Z
UID:10009661-1777075200-1777247999@kropp.de
SUMMARY:Bergenhusen:  Reitergemeinschaft   klassischer Dressur- Lehrgang mit Quint Schneider
DESCRIPTION:
URL:https://kropp.de/veranstaltung/bergenhusen-reitergemeinschaft-klassischer-dressur-lehrgang-mit-quint-schneider/
LOCATION:Reithalle\, Stuten 5\, Bergenhusen\, 24861\, Deutschland
CATEGORIES:Vereinsaktivitäten
ATTACH;FMTTYPE=image/jpeg:https://kropp.de/wp-content/uploads/2026/03/logo_transparent-c757d3e4-84ef8e6f@160w-2t30TR.jpg
END:VEVENT
END:VCALENDAR