BEGIN:VCALENDAR
VERSION:2.0
PRODID:-//Gemeinde Kropp - ECPv6.15.20//NONSGML v1.0//EN
CALSCALE:GREGORIAN
METHOD:PUBLISH
X-ORIGINAL-URL:https://kropp.de
X-WR-CALDESC:Veranstaltungen für Gemeinde Kropp
REFRESH-INTERVAL;VALUE=DURATION:PT1H
X-Robots-Tag:noindex
X-PUBLISHED-TTL:PT1H
BEGIN:VTIMEZONE
TZID:Europe/Berlin
BEGIN:DAYLIGHT
TZOFFSETFROM:+0100
TZOFFSETTO:+0200
TZNAME:CEST
DTSTART:20250330T010000
END:DAYLIGHT
BEGIN:STANDARD
TZOFFSETFROM:+0200
TZOFFSETTO:+0100
TZNAME:CET
DTSTART:20251026T010000
END:STANDARD
BEGIN:DAYLIGHT
TZOFFSETFROM:+0100
TZOFFSETTO:+0200
TZNAME:CEST
DTSTART:20260329T010000
END:DAYLIGHT
BEGIN:STANDARD
TZOFFSETFROM:+0200
TZOFFSETTO:+0100
TZNAME:CET
DTSTART:20261025T010000
END:STANDARD
BEGIN:DAYLIGHT
TZOFFSETFROM:+0100
TZOFFSETTO:+0200
TZNAME:CEST
DTSTART:20270328T010000
END:DAYLIGHT
BEGIN:STANDARD
TZOFFSETFROM:+0200
TZOFFSETTO:+0100
TZNAME:CET
DTSTART:20271031T010000
END:STANDARD
END:VTIMEZONE
BEGIN:VEVENT
DTSTART;TZID=Europe/Berlin:20260424T193000
DTEND;TZID=Europe/Berlin:20260424T193000
DTSTAMP:20260423T221944
CREATED:20260324T111713Z
LAST-MODIFIED:20260324T111713Z
UID:10009561-1777059000-1777059000@kropp.de
SUMMARY:TSV Wohlde - FC Nord-Kickers II
DESCRIPTION:
URL:https://kropp.de/veranstaltung/tsv-wohlde-fc-nord-kickers-ii/
LOCATION:Sportplatz Wohlde\, Sandberg\, Wohlde\, 24899
END:VEVENT
BEGIN:VEVENT
DTSTART;TZID=Europe/Berlin:20260430T180000
DTEND;TZID=Europe/Berlin:20260430T230000
DTSTAMP:20260423T221944
CREATED:20260112T121942Z
LAST-MODIFIED:20260112T121942Z
UID:10006550-1777572000-1777590000@kropp.de
SUMMARY:Maifeuer Wohlde
DESCRIPTION:Die Schützengilde Wohlde lädt ein zum Maifeuer
URL:https://kropp.de/veranstaltung/maifeuer-wohlde/
LOCATION:Sportplatz Wohlde\, Sandberg\, Wohlde\, 24899
ATTACH;FMTTYPE=image/jpeg:https://kropp.de/wp-content/uploads/2026/01/Menschen-vorm-Feuer.jpg
END:VEVENT
BEGIN:VEVENT
DTSTART;TZID=Europe/Berlin:20260508T193000
DTEND;TZID=Europe/Berlin:20260508T193000
DTSTAMP:20260423T221944
CREATED:20260324T111718Z
LAST-MODIFIED:20260324T111718Z
UID:10009562-1778268600-1778268600@kropp.de
SUMMARY:TSV Wohlde - FC Geest 09 II
DESCRIPTION:
URL:https://kropp.de/veranstaltung/tsv-wohlde-fc-geest-09-ii/
LOCATION:Sportplatz Wohlde\, Sandberg\, Wohlde\, 24899
END:VEVENT
BEGIN:VEVENT
DTSTART;TZID=Europe/Berlin:20260726T130000
DTEND;TZID=Europe/Berlin:20260726T230000
DTSTAMP:20260423T221944
CREATED:20260113T120614Z
LAST-MODIFIED:20260113T120614Z
UID:10006567-1785070800-1785106800@kropp.de
SUMMARY:Dorffest Wohlde
DESCRIPTION:Das ganze Dorf feiert beim Dorffest auf dem Sportplatz
URL:https://kropp.de/veranstaltung/dorffest-wohlde/
LOCATION:Sportplatz Wohlde\, Sandberg\, Wohlde\, 24899
ATTACH;FMTTYPE=image/jpeg:https://kropp.de/wp-content/uploads/2025/09/Amt-156.jpg
END:VEVENT
BEGIN:VEVENT
DTSTART;TZID=Europe/Berlin:20260801T153000
DTEND;TZID=Europe/Berlin:20260801T230000
DTSTAMP:20260423T221944
CREATED:20260113T120936Z
LAST-MODIFIED:20260113T120936Z
UID:10006569-1785598200-1785625200@kropp.de
SUMMARY:Kinderzeltlager Wohlde
DESCRIPTION:Der TSV Wohlde lädt zum Kinderzeltlager ein.
URL:https://kropp.de/veranstaltung/kinderzeltlager-wohlde/
LOCATION:Sportplatz Wohlde\, Sandberg\, Wohlde\, 24899
ATTACH;FMTTYPE=image/jpeg:https://kropp.de/wp-content/uploads/2025/09/Amt-156.jpg
END:VEVENT
BEGIN:VEVENT
DTSTART;TZID=Europe/Berlin:20260808T143000
DTEND;TZID=Europe/Berlin:20260808T230000
DTSTAMP:20260423T221944
CREATED:20260113T121047Z
LAST-MODIFIED:20260113T121047Z
UID:10006570-1786199400-1786230000@kropp.de
SUMMARY:TSV Sommerspielfest
DESCRIPTION:
URL:https://kropp.de/veranstaltung/tsv-sommerspielfest/
LOCATION:Sportplatz Wohlde\, Sandberg\, Wohlde\, 24899
ATTACH;FMTTYPE=image/jpeg:https://kropp.de/wp-content/uploads/2025/09/Amt-156.jpg
END:VEVENT
BEGIN:VEVENT
DTSTART;TZID=Europe/Berlin:20260905T100000
DTEND;TZID=Europe/Berlin:20260905T230000
DTSTAMP:20260423T221944
CREATED:20260113T121251Z
LAST-MODIFIED:20260113T121251Z
UID:10006571-1788602400-1788649200@kropp.de
SUMMARY:Oldtimertreffen Wohlde
DESCRIPTION:Ein muss für alle Oldtimer-Fans
URL:https://kropp.de/veranstaltung/oldtimertreffen-wohlde/
LOCATION:Sportplatz Wohlde\, Sandberg\, Wohlde\, 24899
ATTACH;FMTTYPE=image/jpeg:https://kropp.de/wp-content/uploads/2026/01/Oldtimerfreunde-anno-2021-wohlde.jpg
ORGANIZER;CN="Oldtimerfreunde Anno 2021":MAILTO:oldtimerfreundeanno21@gmail.com
END:VEVENT
END:VCALENDAR