BEGIN:VCALENDAR
VERSION:2.0
PRODID:-//Gemeinde Kropp - ECPv6.15.20//NONSGML v1.0//EN
CALSCALE:GREGORIAN
METHOD:PUBLISH
X-WR-CALNAME:Gemeinde Kropp
X-ORIGINAL-URL:https://kropp.de
X-WR-CALDESC:Veranstaltungen für Gemeinde Kropp
REFRESH-INTERVAL;VALUE=DURATION:PT1H
X-Robots-Tag:noindex
X-PUBLISHED-TTL:PT1H
BEGIN:VTIMEZONE
TZID:Europe/Berlin
BEGIN:DAYLIGHT
TZOFFSETFROM:+0100
TZOFFSETTO:+0200
TZNAME:CEST
DTSTART:20250330T010000
END:DAYLIGHT
BEGIN:STANDARD
TZOFFSETFROM:+0200
TZOFFSETTO:+0100
TZNAME:CET
DTSTART:20251026T010000
END:STANDARD
BEGIN:DAYLIGHT
TZOFFSETFROM:+0100
TZOFFSETTO:+0200
TZNAME:CEST
DTSTART:20260329T010000
END:DAYLIGHT
BEGIN:STANDARD
TZOFFSETFROM:+0200
TZOFFSETTO:+0100
TZNAME:CET
DTSTART:20261025T010000
END:STANDARD
BEGIN:DAYLIGHT
TZOFFSETFROM:+0100
TZOFFSETTO:+0200
TZNAME:CEST
DTSTART:20270328T010000
END:DAYLIGHT
BEGIN:STANDARD
TZOFFSETFROM:+0200
TZOFFSETTO:+0100
TZNAME:CET
DTSTART:20271031T010000
END:STANDARD
END:VTIMEZONE
BEGIN:VEVENT
DTSTART;TZID=Europe/Berlin:20260514T054500
DTEND;TZID=Europe/Berlin:20260514T120000
DTSTAMP:20260422T040319
CREATED:20260112T122420Z
LAST-MODIFIED:20260112T122420Z
UID:10006551-1778737500-1778760000@kropp.de
SUMMARY:Anangeln Wohlde
DESCRIPTION:Der Fischereiverein lädt zum Anangeln an der Treenewiese ein.
URL:https://kropp.de/veranstaltung/anangeln-wohlde/
LOCATION:Treenewiese Wohlde
ATTACH;FMTTYPE=image/jpeg:https://kropp.de/wp-content/uploads/2025/09/Amt-296.jpg
END:VEVENT
END:VCALENDAR