BEGIN:VCALENDAR
VERSION:2.0
PRODID:-//Gemeinde Kropp - ECPv6.15.20//NONSGML v1.0//EN
CALSCALE:GREGORIAN
METHOD:PUBLISH
X-WR-CALNAME:Gemeinde Kropp
X-ORIGINAL-URL:https://kropp.de
X-WR-CALDESC:Veranstaltungen für Gemeinde Kropp
REFRESH-INTERVAL;VALUE=DURATION:PT1H
X-Robots-Tag:noindex
X-PUBLISHED-TTL:PT1H
BEGIN:VTIMEZONE
TZID:Europe/Berlin
BEGIN:DAYLIGHT
TZOFFSETFROM:+0100
TZOFFSETTO:+0200
TZNAME:CEST
DTSTART:20250330T010000
END:DAYLIGHT
BEGIN:STANDARD
TZOFFSETFROM:+0200
TZOFFSETTO:+0100
TZNAME:CET
DTSTART:20251026T010000
END:STANDARD
BEGIN:DAYLIGHT
TZOFFSETFROM:+0100
TZOFFSETTO:+0200
TZNAME:CEST
DTSTART:20260329T010000
END:DAYLIGHT
BEGIN:STANDARD
TZOFFSETFROM:+0200
TZOFFSETTO:+0100
TZNAME:CET
DTSTART:20261025T010000
END:STANDARD
BEGIN:DAYLIGHT
TZOFFSETFROM:+0100
TZOFFSETTO:+0200
TZNAME:CEST
DTSTART:20270328T010000
END:DAYLIGHT
BEGIN:STANDARD
TZOFFSETFROM:+0200
TZOFFSETTO:+0100
TZNAME:CET
DTSTART:20271031T010000
END:STANDARD
END:VTIMEZONE
BEGIN:VEVENT
DTSTART;TZID=Europe/Berlin:20260503T093000
DTEND;TZID=Europe/Berlin:20260503T093000
DTSTAMP:20260422T073417
CREATED:20260407T123947Z
LAST-MODIFIED:20260407T123947Z
UID:10009704-1777800600-1777800600@kropp.de
SUMMARY:Stapel: Was machen Kuckuck u. Wiesenralle im Ostermoor Norderstapel? - Exkursion des Naturschutzvereins Süderstapel
DESCRIPTION:Referent: Hans-G. Dierks\nZusatzinformation: Der Weg ist beschwerlich\, Gummistiefel wichtig\, Fernglas\, Vogelstimmen-App sinnvoll.\nAnmeldung erforderlich unter: 04883-512\nAbsagen: 01520 586 1576 (vor der Exkursion)\nTeilnahmeentgelt: 2 €\nTeilnahme auf eigene Gefahr
URL:https://kropp.de/veranstaltung/stapel-was-machen-kuckuck-u-wiesenralle-im-ostermoor-norderstapel-exkursion-des-naturschutzvereins-suederstapel/
LOCATION:Treffpunkt: Ohlsenhaus\, dann gemeinsame Autofahrt
ATTACH;FMTTYPE=image/jpeg:https://kropp.de/wp-content/uploads/2026/04/NSV-Suederstapel-RCZxLz.jpg
END:VEVENT
BEGIN:VEVENT
DTSTART;TZID=Europe/Berlin:20260503T093000
DTEND;TZID=Europe/Berlin:20260503T093000
DTSTAMP:20260422T073417
CREATED:20260414T123948Z
LAST-MODIFIED:20260414T123948Z
UID:10009734-1777800600-1777800600@kropp.de
SUMMARY:Stapel: Was machen Kuckuck u. Wiesenralle im Ostermoor Norderstapel? - Exkursion des Naturschutzvereins Süderstapel
DESCRIPTION:Referent: Hans-G. Dierks\nZusatzinformation: Der Weg ist beschwerlich\, Gummistiefel wichtig\, Fernglas\, Vogelstimmen-App sinnvoll.\nAnmeldung erforderlich unter: 04883-512\nAbsagen: 01520 586 1576 (vor der Exkursion)\nTeilnahmeentgelt: 2 €\nTeilnahme auf eigene Gefahr
URL:https://kropp.de/veranstaltung/stapel-was-machen-kuckuck-u-wiesenralle-im-ostermoor-norderstapel-exkursion-des-naturschutzvereins-suederstapel-2/
LOCATION:Treffpunkt: Ohlsenhaus\, dann gemeinsame Autofahrt
ATTACH;FMTTYPE=image/jpeg:https://kropp.de/wp-content/uploads/2026/04/NSV-Suederstapel-RCZxLz.jpg
END:VEVENT
BEGIN:VEVENT
DTSTART;TZID=Europe/Berlin:20260503T093000
DTEND;TZID=Europe/Berlin:20260503T093000
DTSTAMP:20260422T073417
CREATED:20260421T123951Z
LAST-MODIFIED:20260421T123951Z
UID:10009754-1777800600-1777800600@kropp.de
SUMMARY:Stapel: Was machen Kuckuck u. Wiesenralle im Ostermoor Norderstapel? - Exkursion des Naturschutzvereins Süderstapel
DESCRIPTION:Referent: Hans-G. Dierks\nZusatzinformation: Der Weg ist beschwerlich\, Gummistiefel wichtig\, Fernglas\, Vogelstimmen-App sinnvoll.\nAnmeldung erforderlich unter: 04883-512\nAbsagen: 01520 586 1576 (vor der Exkursion)\nTeilnahmeentgelt: 2 €\nTeilnahme auf eigene Gefahr
URL:https://kropp.de/veranstaltung/stapel-was-machen-kuckuck-u-wiesenralle-im-ostermoor-norderstapel-exkursion-des-naturschutzvereins-suederstapel-3/
LOCATION:Treffpunkt: Ohlsenhaus\, dann gemeinsame Autofahrt
ATTACH;FMTTYPE=image/jpeg:https://kropp.de/wp-content/uploads/2026/04/NSV-Suederstapel-RCZxLz.jpg
END:VEVENT
BEGIN:VEVENT
DTSTART;TZID=Europe/Berlin:20260517T093000
DTEND;TZID=Europe/Berlin:20260517T093000
DTSTAMP:20260422T073417
CREATED:20260421T123951Z
LAST-MODIFIED:20260421T123951Z
UID:10009761-1779010200-1779010200@kropp.de
SUMMARY:Stapel: Beobachtung der Vogelkolonie am Eidersperrwerk - Exkursion des Naturschutzvereins Süderstapel
DESCRIPTION:Beobachtung der Vogelkolonie am Eidersperrwerk\, Blick auf 30 ha Orchideenwiese und Besuch im informativen Spökenkieker.\nTreffpunkt der Veranstaltung: 9:30 Uhr Ohlsenhaus Süderstapel\, dann gemeinsame Autofahrt\nWarm anziehen\, Fernglas\, Vogelstimmen-App\, Floraincognita-App\, Fotokamera.\nEintritt im Lina-Hähnle-Haus: 1\,50 €.\nAnmeldung erforderlich: Tel. 04883 / 512\nAbsagen: 01520 586 1576 (vor der Exkursion)\nTeilnahmeentgelt 2 €\nTeilnahme auf eigene Gefahr\nReferent: Hans-Gerhard Dierks
URL:https://kropp.de/veranstaltung/stapel-beobachtung-der-vogelkolonie-am-eidersperrwerk-exkursion-des-naturschutzvereins-suederstapel/
LOCATION:Treffpunkt: Ohlsenhaus\, dann gemeinsame Autofahrt
ATTACH;FMTTYPE=image/jpeg:https://kropp.de/wp-content/uploads/2026/04/NSV-Suederstapel-RCZxLz.jpg
END:VEVENT
END:VCALENDAR