BEGIN:VCALENDAR
VERSION:2.0
PRODID:-//Gemeinde Kropp - ECPv6.15.20//NONSGML v1.0//EN
CALSCALE:GREGORIAN
METHOD:PUBLISH
X-WR-CALNAME:Gemeinde Kropp
X-ORIGINAL-URL:https://kropp.de
X-WR-CALDESC:Veranstaltungen für Gemeinde Kropp
REFRESH-INTERVAL;VALUE=DURATION:PT1H
X-Robots-Tag:noindex
X-PUBLISHED-TTL:PT1H
BEGIN:VTIMEZONE
TZID:Europe/Berlin
BEGIN:DAYLIGHT
TZOFFSETFROM:+0100
TZOFFSETTO:+0200
TZNAME:CEST
DTSTART:20250330T010000
END:DAYLIGHT
BEGIN:STANDARD
TZOFFSETFROM:+0200
TZOFFSETTO:+0100
TZNAME:CET
DTSTART:20251026T010000
END:STANDARD
BEGIN:DAYLIGHT
TZOFFSETFROM:+0100
TZOFFSETTO:+0200
TZNAME:CEST
DTSTART:20260329T010000
END:DAYLIGHT
BEGIN:STANDARD
TZOFFSETFROM:+0200
TZOFFSETTO:+0100
TZNAME:CET
DTSTART:20261025T010000
END:STANDARD
BEGIN:DAYLIGHT
TZOFFSETFROM:+0100
TZOFFSETTO:+0200
TZNAME:CEST
DTSTART:20270328T010000
END:DAYLIGHT
BEGIN:STANDARD
TZOFFSETFROM:+0200
TZOFFSETTO:+0100
TZNAME:CET
DTSTART:20271031T010000
END:STANDARD
END:VTIMEZONE
BEGIN:VEVENT
DTSTART;TZID=Europe/Berlin:20260506T183000
DTEND;TZID=Europe/Berlin:20260506T183000
DTSTAMP:20260421T234331
CREATED:20260407T123947Z
LAST-MODIFIED:20260407T123947Z
UID:10009705-1778092200-1778092200@kropp.de
SUMMARY:Stapel: Mit dem Rad durch viele Kuckucksreviere
DESCRIPTION:Referent: Hans-G. Dierks Zusatzinformation: Warm anziehen\, Fernglas und Rad notwendig\, anschließend Einkehr im Dorfkrug Stapel. Die Teilnahme erfolgt auf eigene Gefahr\, eine Haftung seitens des Vereins wird nicht übernommen. Für alle Exkursionen gilt: Anmeldung erforderlich unter: 04883-512 Absagen: 01520 586 1576 (vor der Exkursion) Teilnahmeentgelt: 2 € Räder können nach Anmeldung ausgeliehen werden Für die Fahrten und Wanderungen empfehlen wir derbe\, wetterfeste Kleidung\, Stiefel\, im Kanu eine Sitzunterlage; ein Fernglas ermöglicht Ihnen interessante Beobachtungen.
URL:https://kropp.de/veranstaltung/stapel-mit-dem-rad-durch-viele-kuckucksreviere/
LOCATION:Treffpunkt: Ohlsenhaus\, dann gemeinsame Radtour
ATTACH;FMTTYPE=image/jpeg:https://kropp.de/wp-content/uploads/2026/04/NSV-Suederstapel-RCZxLz.jpg
END:VEVENT
BEGIN:VEVENT
DTSTART;TZID=Europe/Berlin:20260506T183000
DTEND;TZID=Europe/Berlin:20260506T183000
DTSTAMP:20260421T234331
CREATED:20260414T123948Z
LAST-MODIFIED:20260414T123948Z
UID:10009735-1778092200-1778092200@kropp.de
SUMMARY:Stapel: Mit dem Rad durch viele Kuckucksreviere
DESCRIPTION:Referent: Hans-G. Dierks Zusatzinformation: Warm anziehen\, Fernglas und Rad notwendig\, anschließend Einkehr im Dorfkrug Stapel. Die Teilnahme erfolgt auf eigene Gefahr\, eine Haftung seitens des Vereins wird nicht übernommen. Für alle Exkursionen gilt: Anmeldung erforderlich unter: 04883-512 Absagen: 01520 586 1576 (vor der Exkursion) Teilnahmeentgelt: 2 € Räder können nach Anmeldung ausgeliehen werden Für die Fahrten und Wanderungen empfehlen wir derbe\, wetterfeste Kleidung\, Stiefel\, im Kanu eine Sitzunterlage; ein Fernglas ermöglicht Ihnen interessante Beobachtungen.
URL:https://kropp.de/veranstaltung/stapel-mit-dem-rad-durch-viele-kuckucksreviere-2/
LOCATION:Treffpunkt: Ohlsenhaus\, dann gemeinsame Radtour
ATTACH;FMTTYPE=image/jpeg:https://kropp.de/wp-content/uploads/2026/04/NSV-Suederstapel-RCZxLz.jpg
END:VEVENT
BEGIN:VEVENT
DTSTART;TZID=Europe/Berlin:20260506T183000
DTEND;TZID=Europe/Berlin:20260506T183000
DTSTAMP:20260421T234331
CREATED:20260421T123951Z
LAST-MODIFIED:20260421T123951Z
UID:10009755-1778092200-1778092200@kropp.de
SUMMARY:Stapel: Mit dem Rad durch viele Kuckucksreviere
DESCRIPTION:Referent: Hans-G. Dierks Zusatzinformation: Warm anziehen\, Fernglas und Rad notwendig\, anschließend Einkehr im Dorfkrug Stapel. Die Teilnahme erfolgt auf eigene Gefahr\, eine Haftung seitens des Vereins wird nicht übernommen. Für alle Exkursionen gilt: Anmeldung erforderlich unter: 04883-512 Absagen: 01520 586 1576 (vor der Exkursion) Teilnahmeentgelt: 2 € Räder können nach Anmeldung ausgeliehen werden Für die Fahrten und Wanderungen empfehlen wir derbe\, wetterfeste Kleidung\, Stiefel\, im Kanu eine Sitzunterlage; ein Fernglas ermöglicht Ihnen interessante Beobachtungen.
URL:https://kropp.de/veranstaltung/stapel-mit-dem-rad-durch-viele-kuckucksreviere-3/
LOCATION:Treffpunkt: Ohlsenhaus\, dann gemeinsame Radtour
ATTACH;FMTTYPE=image/jpeg:https://kropp.de/wp-content/uploads/2026/04/NSV-Suederstapel-RCZxLz.jpg
END:VEVENT
BEGIN:VEVENT
DTSTART;TZID=Europe/Berlin:20260513T183000
DTEND;TZID=Europe/Berlin:20260513T183000
DTSTAMP:20260421T234331
CREATED:20260414T123948Z
LAST-MODIFIED:20260414T123948Z
UID:10009738-1778697000-1778697000@kropp.de
SUMMARY:Stapel: Vögel mit BirdNet am Radweg Stapel-Erfde bestimmen - Exkursion des Naturschutzvereins Süderstapel
DESCRIPTION:Warm anziehen\, Fernglas und Rad notwendig\, anschließend Einkehr im Dorfkrug Erfde oder Stapel\nAnmeldung erforderlich: Tel. 04883 / 512.\nAbsagen: 01520 586 1576 (vor der Exkursion)\nTeilnahmeentgelt 2 €\nTeilnahme auf eigene Gefahr\nRäder können nach Anmeldung ausgeliehen werden\nReferent: Hans-Gerhard Dierks
URL:https://kropp.de/veranstaltung/stapel-voegel-mit-birdnet-am-radweg-stapel-erfde-bestimmen-exkursion-des-naturschutzvereins-suederstapel/
LOCATION:Treffpunkt: Ohlsenhaus\, dann gemeinsame Radtour
ATTACH;FMTTYPE=image/jpeg:https://kropp.de/wp-content/uploads/2026/04/NSV-Suederstapel-RCZxLz.jpg
END:VEVENT
BEGIN:VEVENT
DTSTART;TZID=Europe/Berlin:20260513T183000
DTEND;TZID=Europe/Berlin:20260513T183000
DTSTAMP:20260421T234331
CREATED:20260421T123951Z
LAST-MODIFIED:20260421T123951Z
UID:10009758-1778697000-1778697000@kropp.de
SUMMARY:Stapel: Vögel mit BirdNet am Radweg Stapel-Erfde bestimmen - Exkursion des Naturschutzvereins Süderstapel
DESCRIPTION:Warm anziehen\, Fernglas und Rad notwendig\, anschließend Einkehr im Dorfkrug Erfde oder Stapel\nAnmeldung erforderlich: Tel. 04883 / 512.\nAbsagen: 01520 586 1576 (vor der Exkursion)\nTeilnahmeentgelt 2 €\nTeilnahme auf eigene Gefahr\nRäder können nach Anmeldung ausgeliehen werden\nReferent: Hans-Gerhard Dierks
URL:https://kropp.de/veranstaltung/stapel-voegel-mit-birdnet-am-radweg-stapel-erfde-bestimmen-exkursion-des-naturschutzvereins-suederstapel-2/
LOCATION:Treffpunkt: Ohlsenhaus\, dann gemeinsame Radtour
ATTACH;FMTTYPE=image/jpeg:https://kropp.de/wp-content/uploads/2026/04/NSV-Suederstapel-RCZxLz.jpg
END:VEVENT
BEGIN:VEVENT
DTSTART;TZID=Europe/Berlin:20260520T183000
DTEND;TZID=Europe/Berlin:20260520T183000
DTSTAMP:20260421T234331
CREATED:20260421T123951Z
LAST-MODIFIED:20260421T123951Z
UID:10009762-1779301800-1779301800@kropp.de
SUMMARY:Stapel: Arnika im Rebhuhn-Revier\, wo gibt es das noch? - Exkursion des Naturschutzvereins Süderstapel
DESCRIPTION:Treffpunkt der Veranstaltung: Ohlsenhaus Süderstapel\, 18:30 Uhr\, dann gemeinsame Radtour ins Gebiet\nWarm anziehen; Fernglas und Rad notwendig\, anschließend Einkehr im Dorfkrug Stapel.\nAnmeldung erforderlich: Tel. 04883 / 512.\nAbsagen: 01520 586 1576 (vor der Exkursion)\nTeilnahmeentgelt 2 €\nRäder können nach Anmeldung ausgeliehen werden\nTeilnahme auf eigene Gefahr\nReferent: Hans-Gerhard Dierks
URL:https://kropp.de/veranstaltung/stapel-arnika-im-rebhuhn-revier-wo-gibt-es-das-noch-exkursion-des-naturschutzvereins-suederstapel/
LOCATION:Treffpunkt: Ohlsenhaus\, dann gemeinsame Radtour
ATTACH;FMTTYPE=image/jpeg:https://kropp.de/wp-content/uploads/2026/04/NSV-Suederstapel-RCZxLz.jpg
END:VEVENT
END:VCALENDAR