BEGIN:VCALENDAR
VERSION:2.0
PRODID:-//Gemeinde Kropp - ECPv6.15.20//NONSGML v1.0//EN
CALSCALE:GREGORIAN
METHOD:PUBLISH
X-ORIGINAL-URL:https://kropp.de
X-WR-CALDESC:Veranstaltungen für Gemeinde Kropp
REFRESH-INTERVAL;VALUE=DURATION:PT1H
X-Robots-Tag:noindex
X-PUBLISHED-TTL:PT1H
BEGIN:VTIMEZONE
TZID:Europe/Berlin
BEGIN:DAYLIGHT
TZOFFSETFROM:+0100
TZOFFSETTO:+0200
TZNAME:CEST
DTSTART:20250330T010000
END:DAYLIGHT
BEGIN:STANDARD
TZOFFSETFROM:+0200
TZOFFSETTO:+0100
TZNAME:CET
DTSTART:20251026T010000
END:STANDARD
BEGIN:DAYLIGHT
TZOFFSETFROM:+0100
TZOFFSETTO:+0200
TZNAME:CEST
DTSTART:20260329T010000
END:DAYLIGHT
BEGIN:STANDARD
TZOFFSETFROM:+0200
TZOFFSETTO:+0100
TZNAME:CET
DTSTART:20261025T010000
END:STANDARD
BEGIN:DAYLIGHT
TZOFFSETFROM:+0100
TZOFFSETTO:+0200
TZNAME:CEST
DTSTART:20270328T010000
END:DAYLIGHT
BEGIN:STANDARD
TZOFFSETFROM:+0200
TZOFFSETTO:+0100
TZNAME:CET
DTSTART:20271031T010000
END:STANDARD
END:VTIMEZONE
BEGIN:VEVENT
DTSTART;TZID=Europe/Berlin:20260221T201100
DTEND;TZID=Europe/Berlin:20260221T201100
DTSTAMP:20260422T014428
CREATED:20260205T115419Z
LAST-MODIFIED:20260205T115419Z
UID:10007658-1771704660-1771704660@kropp.de
SUMMARY:MTV Fasching
DESCRIPTION:
URL:https://kropp.de/veranstaltung/mtv-fasching/
LOCATION:Turnhalle Meggerdorf\, Johannisberg\, Meggerdorf\, Bundesstaat wählen:\, 24799\, Germany
ATTACH;FMTTYPE=image/jpeg:https://kropp.de/wp-content/uploads/2026/02/Karneval.jpg
END:VEVENT
BEGIN:VEVENT
DTSTART;TZID=Europe/Berlin:20260221T143000
DTEND;TZID=Europe/Berlin:20260221T143000
DTSTAMP:20260422T014428
CREATED:20260205T115346Z
LAST-MODIFIED:20260205T115346Z
UID:10007657-1771684200-1771684200@kropp.de
SUMMARY:MTV Meggerdorf Kinderfasching
DESCRIPTION:
URL:https://kropp.de/veranstaltung/mtv-meggerdorf-kinderfasching/
LOCATION:Turnhalle Meggerdorf\, Johannisberg\, Meggerdorf\, Bundesstaat wählen:\, 24799\, Germany
ATTACH;FMTTYPE=image/jpeg:https://kropp.de/wp-content/uploads/2026/02/Karneval.jpg
END:VEVENT
BEGIN:VEVENT
DTSTART;TZID=Europe/Berlin:20260220T201100
DTEND;TZID=Europe/Berlin:20260220T201100
DTSTAMP:20260422T014428
CREATED:20260205T115313Z
LAST-MODIFIED:20260205T115313Z
UID:10007656-1771618260-1771618260@kropp.de
SUMMARY:MTV Generalprobe Fasching -Eintritt frei-
DESCRIPTION:
URL:https://kropp.de/veranstaltung/mtv-generalprobe-fasching-eintritt-frei/
LOCATION:Turnhalle Meggerdorf\, Johannisberg\, Meggerdorf\, Bundesstaat wählen:\, 24799\, Germany
ATTACH;FMTTYPE=image/jpeg:https://kropp.de/wp-content/uploads/2026/02/Karneval.jpg
END:VEVENT
END:VCALENDAR