BEGIN:VCALENDAR
VERSION:2.0
PRODID:-//Gemeinde Kropp - ECPv6.15.20//NONSGML v1.0//EN
CALSCALE:GREGORIAN
METHOD:PUBLISH
X-ORIGINAL-URL:https://kropp.de
X-WR-CALDESC:Veranstaltungen für Gemeinde Kropp
REFRESH-INTERVAL;VALUE=DURATION:PT1H
X-Robots-Tag:noindex
X-PUBLISHED-TTL:PT1H
BEGIN:VTIMEZONE
TZID:Europe/Berlin
BEGIN:DAYLIGHT
TZOFFSETFROM:+0100
TZOFFSETTO:+0200
TZNAME:CEST
DTSTART:20240331T010000
END:DAYLIGHT
BEGIN:STANDARD
TZOFFSETFROM:+0200
TZOFFSETTO:+0100
TZNAME:CET
DTSTART:20241027T010000
END:STANDARD
BEGIN:DAYLIGHT
TZOFFSETFROM:+0100
TZOFFSETTO:+0200
TZNAME:CEST
DTSTART:20250330T010000
END:DAYLIGHT
BEGIN:STANDARD
TZOFFSETFROM:+0200
TZOFFSETTO:+0100
TZNAME:CET
DTSTART:20251026T010000
END:STANDARD
BEGIN:DAYLIGHT
TZOFFSETFROM:+0100
TZOFFSETTO:+0200
TZNAME:CEST
DTSTART:20260329T010000
END:DAYLIGHT
BEGIN:STANDARD
TZOFFSETFROM:+0200
TZOFFSETTO:+0100
TZNAME:CET
DTSTART:20261025T010000
END:STANDARD
BEGIN:DAYLIGHT
TZOFFSETFROM:+0100
TZOFFSETTO:+0200
TZNAME:CEST
DTSTART:20270328T010000
END:DAYLIGHT
BEGIN:STANDARD
TZOFFSETFROM:+0200
TZOFFSETTO:+0100
TZNAME:CET
DTSTART:20271031T010000
END:STANDARD
END:VTIMEZONE
BEGIN:VEVENT
DTSTART;TZID=Europe/Berlin:20260228T193000
DTEND;TZID=Europe/Berlin:20260228T193000
DTSTAMP:20260423T223725
CREATED:20260218T113919Z
LAST-MODIFIED:20260218T113919Z
UID:10008336-1772307000-1772307000@kropp.de
SUMMARY:Feuerwehrfest Freiwillige Feuerwehr Groß Rheide
DESCRIPTION:Ansprechpartner Hanno Hagemann Tel. 0176/44257046
URL:https://kropp.de/veranstaltung/feuerwehrfest-freiwillige-feuerwehr-gross-rheide/
LOCATION:Wagenrad Groß Rheide\, Dorfstraße 2\, Groß Rheide\, 24872
ATTACH;FMTTYPE=image/jpeg:https://kropp.de/wp-content/uploads/2025/12/Wagenrad-Gross-Rheide.jpg
END:VEVENT
BEGIN:VEVENT
DTSTART;TZID=Europe/Berlin:20260219T143000
DTEND;TZID=Europe/Berlin:20260219T143000
DTSTAMP:20260423T223725
CREATED:20260217T112625Z
LAST-MODIFIED:20260217T112625Z
UID:10008078-1771511400-1771511400@kropp.de
SUMMARY:Kinderfest Fasching Wagenrad Groß Rheide
DESCRIPTION:Ansprechpartner Kerstin Plähn Tel. 0152/24644864
URL:https://kropp.de/veranstaltung/kinderfest-fasching-wagenrad-gross-rheide/
LOCATION:Wagenrad Groß Rheide\, Dorfstraße 2\, Groß Rheide\, 24872
ATTACH;FMTTYPE=image/jpeg:https://kropp.de/wp-content/uploads/2026/02/Karneval.jpg
END:VEVENT
BEGIN:VEVENT
DTSTART;TZID=Europe/Berlin:20251218T190000
DTEND;TZID=Europe/Berlin:20251218T190000
DTSTAMP:20260423T223725
CREATED:20251210T110613Z
LAST-MODIFIED:20251210T110747Z
UID:10003764-1766084400-1766084400@kropp.de
SUMMARY:Terminauslosung für Verspielabende 2026
DESCRIPTION:Am Donnerstag\, den 18 .12 . 2 025\, findet um 19:00 Uhr im Wagenrad in Groß Rheide die Auslosung der Termine für die Verspielabende des Jahres 2026 statt. Alle Vereine\, die Interesse daran haben\, einen Verspielabend auszurichten\, sind herzlich eingeladen\, an der Veranstaltung teilzunehmen.
URL:https://kropp.de/veranstaltung/terminauslosung-fuer-verspielabende-2026/
LOCATION:Wagenrad Groß Rheide\, Dorfstraße 2\, Groß Rheide\, 24872
ATTACH;FMTTYPE=image/jpeg:https://kropp.de/wp-content/uploads/2025/12/Wagenrad-Gross-Rheide.jpg
END:VEVENT
END:VCALENDAR