BEGIN:VCALENDAR
VERSION:2.0
PRODID:-//Gemeinde Kropp - ECPv6.15.20//NONSGML v1.0//EN
CALSCALE:GREGORIAN
METHOD:PUBLISH
X-ORIGINAL-URL:https://kropp.de
X-WR-CALDESC:Veranstaltungen für Gemeinde Kropp
REFRESH-INTERVAL;VALUE=DURATION:PT1H
X-Robots-Tag:noindex
X-PUBLISHED-TTL:PT1H
BEGIN:VTIMEZONE
TZID:Europe/Berlin
BEGIN:DAYLIGHT
TZOFFSETFROM:+0100
TZOFFSETTO:+0200
TZNAME:CEST
DTSTART:20250330T010000
END:DAYLIGHT
BEGIN:STANDARD
TZOFFSETFROM:+0200
TZOFFSETTO:+0100
TZNAME:CET
DTSTART:20251026T010000
END:STANDARD
BEGIN:DAYLIGHT
TZOFFSETFROM:+0100
TZOFFSETTO:+0200
TZNAME:CEST
DTSTART:20260329T010000
END:DAYLIGHT
BEGIN:STANDARD
TZOFFSETFROM:+0200
TZOFFSETTO:+0100
TZNAME:CET
DTSTART:20261025T010000
END:STANDARD
BEGIN:DAYLIGHT
TZOFFSETFROM:+0100
TZOFFSETTO:+0200
TZNAME:CEST
DTSTART:20270328T010000
END:DAYLIGHT
BEGIN:STANDARD
TZOFFSETFROM:+0200
TZOFFSETTO:+0100
TZNAME:CET
DTSTART:20271031T010000
END:STANDARD
END:VTIMEZONE
BEGIN:VEVENT
DTSTART;TZID=Europe/Berlin:20260613T193000
DTEND;TZID=Europe/Berlin:20260613T235900
DTSTAMP:20260423T223636
CREATED:20260219T114351Z
LAST-MODIFIED:20260219T114351Z
UID:10008351-1781379000-1781395140@kropp.de
SUMMARY:Schützengilde Groß Rheide Festball
DESCRIPTION:2. Gildetag \nAnsprechpartner: Jan Ohm Tel. 0172/9353481
URL:https://kropp.de/veranstaltung/schuetzengilde-gross-rheide-festball/
LOCATION:Wagenrad Groß Rheide\, Dorfstraße 2\, Groß Rheide\, 24872
ATTACH;FMTTYPE=image/png:https://kropp.de/wp-content/uploads/2026/02/Schuetzengilde-Gross-Rheide.png
END:VEVENT
BEGIN:VEVENT
DTSTART;TZID=Europe/Berlin:20261212T143000
DTEND;TZID=Europe/Berlin:20261212T143000
DTSTAMP:20260423T223636
CREATED:20260323T101833Z
LAST-MODIFIED:20260323T101833Z
UID:10009547-1797085800-1797085800@kropp.de
SUMMARY:Adventskaffee für alle Bürger von Groß Rheide
DESCRIPTION:Ansprechpartner: \nBürgermeister W. Koch Tel. 457741 \nIngo Völz Tel. 803512
URL:https://kropp.de/veranstaltung/adventskaffee-fuer-alle-buerger-von-gross-rheide/
LOCATION:Wagenrad Groß Rheide\, Dorfstraße 2\, Groß Rheide\, 24872
ATTACH;FMTTYPE=image/jpeg:https://kropp.de/wp-content/uploads/2025/09/Amt-109.jpg
END:VEVENT
END:VCALENDAR