BEGIN:VCALENDAR
VERSION:2.0
PRODID:-//Gemeinde Kropp - ECPv6.15.20//NONSGML v1.0//EN
CALSCALE:GREGORIAN
METHOD:PUBLISH
X-WR-CALNAME:Gemeinde Kropp
X-ORIGINAL-URL:https://kropp.de
X-WR-CALDESC:Veranstaltungen für Gemeinde Kropp
REFRESH-INTERVAL;VALUE=DURATION:PT1H
X-Robots-Tag:noindex
X-PUBLISHED-TTL:PT1H
BEGIN:VTIMEZONE
TZID:Europe/Berlin
BEGIN:DAYLIGHT
TZOFFSETFROM:+0100
TZOFFSETTO:+0200
TZNAME:CEST
DTSTART:20250330T010000
END:DAYLIGHT
BEGIN:STANDARD
TZOFFSETFROM:+0200
TZOFFSETTO:+0100
TZNAME:CET
DTSTART:20251026T010000
END:STANDARD
BEGIN:DAYLIGHT
TZOFFSETFROM:+0100
TZOFFSETTO:+0200
TZNAME:CEST
DTSTART:20260329T010000
END:DAYLIGHT
BEGIN:STANDARD
TZOFFSETFROM:+0200
TZOFFSETTO:+0100
TZNAME:CET
DTSTART:20261025T010000
END:STANDARD
BEGIN:DAYLIGHT
TZOFFSETFROM:+0100
TZOFFSETTO:+0200
TZNAME:CEST
DTSTART:20270328T010000
END:DAYLIGHT
BEGIN:STANDARD
TZOFFSETFROM:+0200
TZOFFSETTO:+0100
TZNAME:CET
DTSTART:20271031T010000
END:STANDARD
BEGIN:DAYLIGHT
TZOFFSETFROM:+0100
TZOFFSETTO:+0200
TZNAME:CEST
DTSTART:20280326T010000
END:DAYLIGHT
BEGIN:STANDARD
TZOFFSETFROM:+0200
TZOFFSETTO:+0100
TZNAME:CET
DTSTART:20281029T010000
END:STANDARD
END:VTIMEZONE
BEGIN:VEVENT
DTSTART;TZID=Europe/Berlin:20260424T105000
DTEND;TZID=Europe/Berlin:20260424T111000
DTSTAMP:20260421T235545
CREATED:20260216T074628Z
LAST-MODIFIED:20260216T074628Z
UID:10007957-1777027800-1777029000@kropp.de
SUMMARY:Fahrbücherei Meggerdorf
DESCRIPTION:Die Fahrbücherei ist unterwegs.
URL:https://kropp.de/veranstaltung/fahrbuecherei-meggerdorf-2/2026-04-24/
LOCATION:Westersee 6\, Meggerdorf\, 24799
ATTACH;FMTTYPE=image/jpeg:https://kropp.de/wp-content/uploads/2025/12/Fahrbuecherei_Kreis_Schleswig-Flensburg.jpg
END:VEVENT
BEGIN:VEVENT
DTSTART;TZID=Europe/Berlin:20260424T144000
DTEND;TZID=Europe/Berlin:20260424T152000
DTSTAMP:20260421T235545
CREATED:20260216T074803Z
LAST-MODIFIED:20260216T074803Z
UID:10008017-1777041600-1777044000@kropp.de
SUMMARY:Fahrbücherei
DESCRIPTION:Die Fahrbücherei ist unterwegs.
URL:https://kropp.de/veranstaltung/fahrbuecherei/2026-04-24/
LOCATION:Westersee 6\, Meggerdorf\, 24799
ATTACH;FMTTYPE=image/jpeg:https://kropp.de/wp-content/uploads/2025/12/Fahrbuecherei_Kreis_Schleswig-Flensburg.jpg
END:VEVENT
BEGIN:VEVENT
DTSTART;TZID=Europe/Berlin:20260522T105000
DTEND;TZID=Europe/Berlin:20260522T111000
DTSTAMP:20260421T235545
CREATED:20260216T074628Z
LAST-MODIFIED:20260216T074628Z
UID:10007958-1779447000-1779448200@kropp.de
SUMMARY:Fahrbücherei Meggerdorf
DESCRIPTION:Die Fahrbücherei ist unterwegs.
URL:https://kropp.de/veranstaltung/fahrbuecherei-meggerdorf-2/2026-05-22/
LOCATION:Westersee 6\, Meggerdorf\, 24799
ATTACH;FMTTYPE=image/jpeg:https://kropp.de/wp-content/uploads/2025/12/Fahrbuecherei_Kreis_Schleswig-Flensburg.jpg
END:VEVENT
BEGIN:VEVENT
DTSTART;TZID=Europe/Berlin:20260522T144000
DTEND;TZID=Europe/Berlin:20260522T152000
DTSTAMP:20260421T235545
CREATED:20260216T074803Z
LAST-MODIFIED:20260216T074803Z
UID:10008018-1779460800-1779463200@kropp.de
SUMMARY:Fahrbücherei
DESCRIPTION:Die Fahrbücherei ist unterwegs.
URL:https://kropp.de/veranstaltung/fahrbuecherei/2026-05-22/
LOCATION:Westersee 6\, Meggerdorf\, 24799
ATTACH;FMTTYPE=image/jpeg:https://kropp.de/wp-content/uploads/2025/12/Fahrbuecherei_Kreis_Schleswig-Flensburg.jpg
END:VEVENT
BEGIN:VEVENT
DTSTART;TZID=Europe/Berlin:20260626T105000
DTEND;TZID=Europe/Berlin:20260626T111000
DTSTAMP:20260421T235545
CREATED:20260216T074628Z
LAST-MODIFIED:20260216T074628Z
UID:10007959-1782471000-1782472200@kropp.de
SUMMARY:Fahrbücherei Meggerdorf
DESCRIPTION:Die Fahrbücherei ist unterwegs.
URL:https://kropp.de/veranstaltung/fahrbuecherei-meggerdorf-2/2026-06-26/
LOCATION:Westersee 6\, Meggerdorf\, 24799
ATTACH;FMTTYPE=image/jpeg:https://kropp.de/wp-content/uploads/2025/12/Fahrbuecherei_Kreis_Schleswig-Flensburg.jpg
END:VEVENT
BEGIN:VEVENT
DTSTART;TZID=Europe/Berlin:20260626T144000
DTEND;TZID=Europe/Berlin:20260626T152000
DTSTAMP:20260421T235545
CREATED:20260216T074803Z
LAST-MODIFIED:20260216T074803Z
UID:10008019-1782484800-1782487200@kropp.de
SUMMARY:Fahrbücherei
DESCRIPTION:Die Fahrbücherei ist unterwegs.
URL:https://kropp.de/veranstaltung/fahrbuecherei/2026-06-26/
LOCATION:Westersee 6\, Meggerdorf\, 24799
ATTACH;FMTTYPE=image/jpeg:https://kropp.de/wp-content/uploads/2025/12/Fahrbuecherei_Kreis_Schleswig-Flensburg.jpg
END:VEVENT
BEGIN:VEVENT
DTSTART;TZID=Europe/Berlin:20260724T105000
DTEND;TZID=Europe/Berlin:20260724T111000
DTSTAMP:20260421T235545
CREATED:20260216T074628Z
LAST-MODIFIED:20260216T074628Z
UID:10007960-1784890200-1784891400@kropp.de
SUMMARY:Fahrbücherei Meggerdorf
DESCRIPTION:Die Fahrbücherei ist unterwegs.
URL:https://kropp.de/veranstaltung/fahrbuecherei-meggerdorf-2/2026-07-24/
LOCATION:Westersee 6\, Meggerdorf\, 24799
ATTACH;FMTTYPE=image/jpeg:https://kropp.de/wp-content/uploads/2025/12/Fahrbuecherei_Kreis_Schleswig-Flensburg.jpg
END:VEVENT
BEGIN:VEVENT
DTSTART;TZID=Europe/Berlin:20260724T144000
DTEND;TZID=Europe/Berlin:20260724T152000
DTSTAMP:20260421T235545
CREATED:20260216T074803Z
LAST-MODIFIED:20260216T074803Z
UID:10008020-1784904000-1784906400@kropp.de
SUMMARY:Fahrbücherei
DESCRIPTION:Die Fahrbücherei ist unterwegs.
URL:https://kropp.de/veranstaltung/fahrbuecherei/2026-07-24/
LOCATION:Westersee 6\, Meggerdorf\, 24799
ATTACH;FMTTYPE=image/jpeg:https://kropp.de/wp-content/uploads/2025/12/Fahrbuecherei_Kreis_Schleswig-Flensburg.jpg
END:VEVENT
BEGIN:VEVENT
DTSTART;TZID=Europe/Berlin:20260828T105000
DTEND;TZID=Europe/Berlin:20260828T111000
DTSTAMP:20260421T235545
CREATED:20260216T074628Z
LAST-MODIFIED:20260216T074628Z
UID:10007961-1787914200-1787915400@kropp.de
SUMMARY:Fahrbücherei Meggerdorf
DESCRIPTION:Die Fahrbücherei ist unterwegs.
URL:https://kropp.de/veranstaltung/fahrbuecherei-meggerdorf-2/2026-08-28/
LOCATION:Westersee 6\, Meggerdorf\, 24799
ATTACH;FMTTYPE=image/jpeg:https://kropp.de/wp-content/uploads/2025/12/Fahrbuecherei_Kreis_Schleswig-Flensburg.jpg
END:VEVENT
BEGIN:VEVENT
DTSTART;TZID=Europe/Berlin:20260828T144000
DTEND;TZID=Europe/Berlin:20260828T152000
DTSTAMP:20260421T235545
CREATED:20260216T074803Z
LAST-MODIFIED:20260216T074803Z
UID:10008021-1787928000-1787930400@kropp.de
SUMMARY:Fahrbücherei
DESCRIPTION:Die Fahrbücherei ist unterwegs.
URL:https://kropp.de/veranstaltung/fahrbuecherei/2026-08-28/
LOCATION:Westersee 6\, Meggerdorf\, 24799
ATTACH;FMTTYPE=image/jpeg:https://kropp.de/wp-content/uploads/2025/12/Fahrbuecherei_Kreis_Schleswig-Flensburg.jpg
END:VEVENT
BEGIN:VEVENT
DTSTART;TZID=Europe/Berlin:20260925T105000
DTEND;TZID=Europe/Berlin:20260925T111000
DTSTAMP:20260421T235545
CREATED:20260216T074628Z
LAST-MODIFIED:20260216T074628Z
UID:10007962-1790333400-1790334600@kropp.de
SUMMARY:Fahrbücherei Meggerdorf
DESCRIPTION:Die Fahrbücherei ist unterwegs.
URL:https://kropp.de/veranstaltung/fahrbuecherei-meggerdorf-2/2026-09-25/
LOCATION:Westersee 6\, Meggerdorf\, 24799
ATTACH;FMTTYPE=image/jpeg:https://kropp.de/wp-content/uploads/2025/12/Fahrbuecherei_Kreis_Schleswig-Flensburg.jpg
END:VEVENT
BEGIN:VEVENT
DTSTART;TZID=Europe/Berlin:20260925T144000
DTEND;TZID=Europe/Berlin:20260925T152000
DTSTAMP:20260421T235545
CREATED:20260216T074803Z
LAST-MODIFIED:20260216T074803Z
UID:10008022-1790347200-1790349600@kropp.de
SUMMARY:Fahrbücherei
DESCRIPTION:Die Fahrbücherei ist unterwegs.
URL:https://kropp.de/veranstaltung/fahrbuecherei/2026-09-25/
LOCATION:Westersee 6\, Meggerdorf\, 24799
ATTACH;FMTTYPE=image/jpeg:https://kropp.de/wp-content/uploads/2025/12/Fahrbuecherei_Kreis_Schleswig-Flensburg.jpg
END:VEVENT
BEGIN:VEVENT
DTSTART;TZID=Europe/Berlin:20261023T105000
DTEND;TZID=Europe/Berlin:20261023T111000
DTSTAMP:20260421T235545
CREATED:20260216T074628Z
LAST-MODIFIED:20260216T074628Z
UID:10007963-1792752600-1792753800@kropp.de
SUMMARY:Fahrbücherei Meggerdorf
DESCRIPTION:Die Fahrbücherei ist unterwegs.
URL:https://kropp.de/veranstaltung/fahrbuecherei-meggerdorf-2/2026-10-23/
LOCATION:Westersee 6\, Meggerdorf\, 24799
ATTACH;FMTTYPE=image/jpeg:https://kropp.de/wp-content/uploads/2025/12/Fahrbuecherei_Kreis_Schleswig-Flensburg.jpg
END:VEVENT
BEGIN:VEVENT
DTSTART;TZID=Europe/Berlin:20261023T144000
DTEND;TZID=Europe/Berlin:20261023T152000
DTSTAMP:20260421T235545
CREATED:20260216T074803Z
LAST-MODIFIED:20260216T074803Z
UID:10008023-1792766400-1792768800@kropp.de
SUMMARY:Fahrbücherei
DESCRIPTION:Die Fahrbücherei ist unterwegs.
URL:https://kropp.de/veranstaltung/fahrbuecherei/2026-10-23/
LOCATION:Westersee 6\, Meggerdorf\, 24799
ATTACH;FMTTYPE=image/jpeg:https://kropp.de/wp-content/uploads/2025/12/Fahrbuecherei_Kreis_Schleswig-Flensburg.jpg
END:VEVENT
BEGIN:VEVENT
DTSTART;TZID=Europe/Berlin:20261127T105000
DTEND;TZID=Europe/Berlin:20261127T111000
DTSTAMP:20260421T235545
CREATED:20260216T074628Z
LAST-MODIFIED:20260216T074628Z
UID:10007964-1795776600-1795777800@kropp.de
SUMMARY:Fahrbücherei Meggerdorf
DESCRIPTION:Die Fahrbücherei ist unterwegs.
URL:https://kropp.de/veranstaltung/fahrbuecherei-meggerdorf-2/2026-11-27/
LOCATION:Westersee 6\, Meggerdorf\, 24799
ATTACH;FMTTYPE=image/jpeg:https://kropp.de/wp-content/uploads/2025/12/Fahrbuecherei_Kreis_Schleswig-Flensburg.jpg
END:VEVENT
BEGIN:VEVENT
DTSTART;TZID=Europe/Berlin:20261127T144000
DTEND;TZID=Europe/Berlin:20261127T152000
DTSTAMP:20260421T235545
CREATED:20260216T074803Z
LAST-MODIFIED:20260216T074803Z
UID:10008024-1795790400-1795792800@kropp.de
SUMMARY:Fahrbücherei
DESCRIPTION:Die Fahrbücherei ist unterwegs.
URL:https://kropp.de/veranstaltung/fahrbuecherei/2026-11-27/
LOCATION:Westersee 6\, Meggerdorf\, 24799
ATTACH;FMTTYPE=image/jpeg:https://kropp.de/wp-content/uploads/2025/12/Fahrbuecherei_Kreis_Schleswig-Flensburg.jpg
END:VEVENT
BEGIN:VEVENT
DTSTART;TZID=Europe/Berlin:20261225T105000
DTEND;TZID=Europe/Berlin:20261225T111000
DTSTAMP:20260421T235545
CREATED:20260216T074628Z
LAST-MODIFIED:20260216T074628Z
UID:10007965-1798195800-1798197000@kropp.de
SUMMARY:Fahrbücherei Meggerdorf
DESCRIPTION:Die Fahrbücherei ist unterwegs.
URL:https://kropp.de/veranstaltung/fahrbuecherei-meggerdorf-2/2026-12-25/
LOCATION:Westersee 6\, Meggerdorf\, 24799
ATTACH;FMTTYPE=image/jpeg:https://kropp.de/wp-content/uploads/2025/12/Fahrbuecherei_Kreis_Schleswig-Flensburg.jpg
END:VEVENT
BEGIN:VEVENT
DTSTART;TZID=Europe/Berlin:20261225T144000
DTEND;TZID=Europe/Berlin:20261225T152000
DTSTAMP:20260421T235545
CREATED:20260216T074803Z
LAST-MODIFIED:20260216T074803Z
UID:10008025-1798209600-1798212000@kropp.de
SUMMARY:Fahrbücherei
DESCRIPTION:Die Fahrbücherei ist unterwegs.
URL:https://kropp.de/veranstaltung/fahrbuecherei/2026-12-25/
LOCATION:Westersee 6\, Meggerdorf\, 24799
ATTACH;FMTTYPE=image/jpeg:https://kropp.de/wp-content/uploads/2025/12/Fahrbuecherei_Kreis_Schleswig-Flensburg.jpg
END:VEVENT
BEGIN:VEVENT
DTSTART;TZID=Europe/Berlin:20270122T105000
DTEND;TZID=Europe/Berlin:20270122T111000
DTSTAMP:20260421T235545
CREATED:20260216T074628Z
LAST-MODIFIED:20260216T074628Z
UID:10007966-1800615000-1800616200@kropp.de
SUMMARY:Fahrbücherei Meggerdorf
DESCRIPTION:Die Fahrbücherei ist unterwegs.
URL:https://kropp.de/veranstaltung/fahrbuecherei-meggerdorf-2/2027-01-22/
LOCATION:Westersee 6\, Meggerdorf\, 24799
ATTACH;FMTTYPE=image/jpeg:https://kropp.de/wp-content/uploads/2025/12/Fahrbuecherei_Kreis_Schleswig-Flensburg.jpg
END:VEVENT
BEGIN:VEVENT
DTSTART;TZID=Europe/Berlin:20270122T144000
DTEND;TZID=Europe/Berlin:20270122T152000
DTSTAMP:20260421T235545
CREATED:20260216T074803Z
LAST-MODIFIED:20260216T074803Z
UID:10008026-1800628800-1800631200@kropp.de
SUMMARY:Fahrbücherei
DESCRIPTION:Die Fahrbücherei ist unterwegs.
URL:https://kropp.de/veranstaltung/fahrbuecherei/2027-01-22/
LOCATION:Westersee 6\, Meggerdorf\, 24799
ATTACH;FMTTYPE=image/jpeg:https://kropp.de/wp-content/uploads/2025/12/Fahrbuecherei_Kreis_Schleswig-Flensburg.jpg
END:VEVENT
BEGIN:VEVENT
DTSTART;TZID=Europe/Berlin:20270226T105000
DTEND;TZID=Europe/Berlin:20270226T111000
DTSTAMP:20260421T235545
CREATED:20260216T074628Z
LAST-MODIFIED:20260216T074628Z
UID:10007967-1803639000-1803640200@kropp.de
SUMMARY:Fahrbücherei Meggerdorf
DESCRIPTION:Die Fahrbücherei ist unterwegs.
URL:https://kropp.de/veranstaltung/fahrbuecherei-meggerdorf-2/2027-02-26/
LOCATION:Westersee 6\, Meggerdorf\, 24799
ATTACH;FMTTYPE=image/jpeg:https://kropp.de/wp-content/uploads/2025/12/Fahrbuecherei_Kreis_Schleswig-Flensburg.jpg
END:VEVENT
BEGIN:VEVENT
DTSTART;TZID=Europe/Berlin:20270226T144000
DTEND;TZID=Europe/Berlin:20270226T152000
DTSTAMP:20260421T235545
CREATED:20260216T074803Z
LAST-MODIFIED:20260216T074803Z
UID:10008027-1803652800-1803655200@kropp.de
SUMMARY:Fahrbücherei
DESCRIPTION:Die Fahrbücherei ist unterwegs.
URL:https://kropp.de/veranstaltung/fahrbuecherei/2027-02-26/
LOCATION:Westersee 6\, Meggerdorf\, 24799
ATTACH;FMTTYPE=image/jpeg:https://kropp.de/wp-content/uploads/2025/12/Fahrbuecherei_Kreis_Schleswig-Flensburg.jpg
END:VEVENT
BEGIN:VEVENT
DTSTART;TZID=Europe/Berlin:20270326T105000
DTEND;TZID=Europe/Berlin:20270326T111000
DTSTAMP:20260421T235545
CREATED:20260216T074628Z
LAST-MODIFIED:20260216T074628Z
UID:10007968-1806058200-1806059400@kropp.de
SUMMARY:Fahrbücherei Meggerdorf
DESCRIPTION:Die Fahrbücherei ist unterwegs.
URL:https://kropp.de/veranstaltung/fahrbuecherei-meggerdorf-2/2027-03-26/
LOCATION:Westersee 6\, Meggerdorf\, 24799
ATTACH;FMTTYPE=image/jpeg:https://kropp.de/wp-content/uploads/2025/12/Fahrbuecherei_Kreis_Schleswig-Flensburg.jpg
END:VEVENT
BEGIN:VEVENT
DTSTART;TZID=Europe/Berlin:20270326T144000
DTEND;TZID=Europe/Berlin:20270326T152000
DTSTAMP:20260421T235545
CREATED:20260216T074803Z
LAST-MODIFIED:20260216T074803Z
UID:10008028-1806072000-1806074400@kropp.de
SUMMARY:Fahrbücherei
DESCRIPTION:Die Fahrbücherei ist unterwegs.
URL:https://kropp.de/veranstaltung/fahrbuecherei/2027-03-26/
LOCATION:Westersee 6\, Meggerdorf\, 24799
ATTACH;FMTTYPE=image/jpeg:https://kropp.de/wp-content/uploads/2025/12/Fahrbuecherei_Kreis_Schleswig-Flensburg.jpg
END:VEVENT
BEGIN:VEVENT
DTSTART;TZID=Europe/Berlin:20270423T105000
DTEND;TZID=Europe/Berlin:20270423T111000
DTSTAMP:20260421T235545
CREATED:20260216T074628Z
LAST-MODIFIED:20260216T074628Z
UID:10007969-1808477400-1808478600@kropp.de
SUMMARY:Fahrbücherei Meggerdorf
DESCRIPTION:Die Fahrbücherei ist unterwegs.
URL:https://kropp.de/veranstaltung/fahrbuecherei-meggerdorf-2/2027-04-23/
LOCATION:Westersee 6\, Meggerdorf\, 24799
ATTACH;FMTTYPE=image/jpeg:https://kropp.de/wp-content/uploads/2025/12/Fahrbuecherei_Kreis_Schleswig-Flensburg.jpg
END:VEVENT
BEGIN:VEVENT
DTSTART;TZID=Europe/Berlin:20270423T144000
DTEND;TZID=Europe/Berlin:20270423T152000
DTSTAMP:20260421T235545
CREATED:20260216T074803Z
LAST-MODIFIED:20260216T074803Z
UID:10008029-1808491200-1808493600@kropp.de
SUMMARY:Fahrbücherei
DESCRIPTION:Die Fahrbücherei ist unterwegs.
URL:https://kropp.de/veranstaltung/fahrbuecherei/2027-04-23/
LOCATION:Westersee 6\, Meggerdorf\, 24799
ATTACH;FMTTYPE=image/jpeg:https://kropp.de/wp-content/uploads/2025/12/Fahrbuecherei_Kreis_Schleswig-Flensburg.jpg
END:VEVENT
BEGIN:VEVENT
DTSTART;TZID=Europe/Berlin:20270528T105000
DTEND;TZID=Europe/Berlin:20270528T111000
DTSTAMP:20260421T235545
CREATED:20260216T074628Z
LAST-MODIFIED:20260216T074628Z
UID:10007970-1811501400-1811502600@kropp.de
SUMMARY:Fahrbücherei Meggerdorf
DESCRIPTION:Die Fahrbücherei ist unterwegs.
URL:https://kropp.de/veranstaltung/fahrbuecherei-meggerdorf-2/2027-05-28/
LOCATION:Westersee 6\, Meggerdorf\, 24799
ATTACH;FMTTYPE=image/jpeg:https://kropp.de/wp-content/uploads/2025/12/Fahrbuecherei_Kreis_Schleswig-Flensburg.jpg
END:VEVENT
BEGIN:VEVENT
DTSTART;TZID=Europe/Berlin:20270528T144000
DTEND;TZID=Europe/Berlin:20270528T152000
DTSTAMP:20260421T235545
CREATED:20260216T074803Z
LAST-MODIFIED:20260216T074803Z
UID:10008030-1811515200-1811517600@kropp.de
SUMMARY:Fahrbücherei
DESCRIPTION:Die Fahrbücherei ist unterwegs.
URL:https://kropp.de/veranstaltung/fahrbuecherei/2027-05-28/
LOCATION:Westersee 6\, Meggerdorf\, 24799
ATTACH;FMTTYPE=image/jpeg:https://kropp.de/wp-content/uploads/2025/12/Fahrbuecherei_Kreis_Schleswig-Flensburg.jpg
END:VEVENT
BEGIN:VEVENT
DTSTART;TZID=Europe/Berlin:20270625T105000
DTEND;TZID=Europe/Berlin:20270625T111000
DTSTAMP:20260421T235545
CREATED:20260216T074628Z
LAST-MODIFIED:20260216T074628Z
UID:10007971-1813920600-1813921800@kropp.de
SUMMARY:Fahrbücherei Meggerdorf
DESCRIPTION:Die Fahrbücherei ist unterwegs.
URL:https://kropp.de/veranstaltung/fahrbuecherei-meggerdorf-2/2027-06-25/
LOCATION:Westersee 6\, Meggerdorf\, 24799
ATTACH;FMTTYPE=image/jpeg:https://kropp.de/wp-content/uploads/2025/12/Fahrbuecherei_Kreis_Schleswig-Flensburg.jpg
END:VEVENT
BEGIN:VEVENT
DTSTART;TZID=Europe/Berlin:20270625T144000
DTEND;TZID=Europe/Berlin:20270625T152000
DTSTAMP:20260421T235545
CREATED:20260216T074803Z
LAST-MODIFIED:20260216T074803Z
UID:10008031-1813934400-1813936800@kropp.de
SUMMARY:Fahrbücherei
DESCRIPTION:Die Fahrbücherei ist unterwegs.
URL:https://kropp.de/veranstaltung/fahrbuecherei/2027-06-25/
LOCATION:Westersee 6\, Meggerdorf\, 24799
ATTACH;FMTTYPE=image/jpeg:https://kropp.de/wp-content/uploads/2025/12/Fahrbuecherei_Kreis_Schleswig-Flensburg.jpg
END:VEVENT
END:VCALENDAR