BEGIN:VCALENDAR
VERSION:2.0
PRODID:-//Gemeinde Kropp - ECPv6.15.20//NONSGML v1.0//EN
CALSCALE:GREGORIAN
METHOD:PUBLISH
X-WR-CALNAME:Gemeinde Kropp
X-ORIGINAL-URL:https://kropp.de
X-WR-CALDESC:Veranstaltungen für Gemeinde Kropp
REFRESH-INTERVAL;VALUE=DURATION:PT1H
X-Robots-Tag:noindex
X-PUBLISHED-TTL:PT1H
BEGIN:VTIMEZONE
TZID:Europe/Berlin
BEGIN:DAYLIGHT
TZOFFSETFROM:+0100
TZOFFSETTO:+0200
TZNAME:CEST
DTSTART:20260329T010000
END:DAYLIGHT
BEGIN:STANDARD
TZOFFSETFROM:+0200
TZOFFSETTO:+0100
TZNAME:CET
DTSTART:20261025T010000
END:STANDARD
BEGIN:DAYLIGHT
TZOFFSETFROM:+0100
TZOFFSETTO:+0200
TZNAME:CEST
DTSTART:20270328T010000
END:DAYLIGHT
BEGIN:STANDARD
TZOFFSETFROM:+0200
TZOFFSETTO:+0100
TZNAME:CET
DTSTART:20271031T010000
END:STANDARD
BEGIN:DAYLIGHT
TZOFFSETFROM:+0100
TZOFFSETTO:+0200
TZNAME:CEST
DTSTART:20280326T010000
END:DAYLIGHT
BEGIN:STANDARD
TZOFFSETFROM:+0200
TZOFFSETTO:+0100
TZNAME:CET
DTSTART:20281029T010000
END:STANDARD
BEGIN:DAYLIGHT
TZOFFSETFROM:+0100
TZOFFSETTO:+0200
TZNAME:CEST
DTSTART:20290325T010000
END:DAYLIGHT
BEGIN:STANDARD
TZOFFSETFROM:+0200
TZOFFSETTO:+0100
TZNAME:CET
DTSTART:20291028T010000
END:STANDARD
END:VTIMEZONE
BEGIN:VEVENT
DTSTART;TZID=Europe/Berlin:20270423T105000
DTEND;TZID=Europe/Berlin:20270423T111000
DTSTAMP:20260422T035003
CREATED:20260216T074628Z
LAST-MODIFIED:20260216T074628Z
UID:10007969-1808477400-1808478600@kropp.de
SUMMARY:Fahrbücherei Meggerdorf
DESCRIPTION:Die Fahrbücherei ist unterwegs.
URL:https://kropp.de/veranstaltung/fahrbuecherei-meggerdorf-2/2027-04-23/
LOCATION:Westersee 6\, Meggerdorf\, 24799
ATTACH;FMTTYPE=image/jpeg:https://kropp.de/wp-content/uploads/2025/12/Fahrbuecherei_Kreis_Schleswig-Flensburg.jpg
END:VEVENT
BEGIN:VEVENT
DTSTART;TZID=Europe/Berlin:20270423T144000
DTEND;TZID=Europe/Berlin:20270423T152000
DTSTAMP:20260422T035003
CREATED:20260216T074803Z
LAST-MODIFIED:20260216T074803Z
UID:10008029-1808491200-1808493600@kropp.de
SUMMARY:Fahrbücherei
DESCRIPTION:Die Fahrbücherei ist unterwegs.
URL:https://kropp.de/veranstaltung/fahrbuecherei/2027-04-23/
LOCATION:Westersee 6\, Meggerdorf\, 24799
ATTACH;FMTTYPE=image/jpeg:https://kropp.de/wp-content/uploads/2025/12/Fahrbuecherei_Kreis_Schleswig-Flensburg.jpg
END:VEVENT
BEGIN:VEVENT
DTSTART;TZID=Europe/Berlin:20270528T105000
DTEND;TZID=Europe/Berlin:20270528T111000
DTSTAMP:20260422T035003
CREATED:20260216T074628Z
LAST-MODIFIED:20260216T074628Z
UID:10007970-1811501400-1811502600@kropp.de
SUMMARY:Fahrbücherei Meggerdorf
DESCRIPTION:Die Fahrbücherei ist unterwegs.
URL:https://kropp.de/veranstaltung/fahrbuecherei-meggerdorf-2/2027-05-28/
LOCATION:Westersee 6\, Meggerdorf\, 24799
ATTACH;FMTTYPE=image/jpeg:https://kropp.de/wp-content/uploads/2025/12/Fahrbuecherei_Kreis_Schleswig-Flensburg.jpg
END:VEVENT
BEGIN:VEVENT
DTSTART;TZID=Europe/Berlin:20270528T144000
DTEND;TZID=Europe/Berlin:20270528T152000
DTSTAMP:20260422T035003
CREATED:20260216T074803Z
LAST-MODIFIED:20260216T074803Z
UID:10008030-1811515200-1811517600@kropp.de
SUMMARY:Fahrbücherei
DESCRIPTION:Die Fahrbücherei ist unterwegs.
URL:https://kropp.de/veranstaltung/fahrbuecherei/2027-05-28/
LOCATION:Westersee 6\, Meggerdorf\, 24799
ATTACH;FMTTYPE=image/jpeg:https://kropp.de/wp-content/uploads/2025/12/Fahrbuecherei_Kreis_Schleswig-Flensburg.jpg
END:VEVENT
BEGIN:VEVENT
DTSTART;TZID=Europe/Berlin:20270625T105000
DTEND;TZID=Europe/Berlin:20270625T111000
DTSTAMP:20260422T035003
CREATED:20260216T074628Z
LAST-MODIFIED:20260216T074628Z
UID:10007971-1813920600-1813921800@kropp.de
SUMMARY:Fahrbücherei Meggerdorf
DESCRIPTION:Die Fahrbücherei ist unterwegs.
URL:https://kropp.de/veranstaltung/fahrbuecherei-meggerdorf-2/2027-06-25/
LOCATION:Westersee 6\, Meggerdorf\, 24799
ATTACH;FMTTYPE=image/jpeg:https://kropp.de/wp-content/uploads/2025/12/Fahrbuecherei_Kreis_Schleswig-Flensburg.jpg
END:VEVENT
BEGIN:VEVENT
DTSTART;TZID=Europe/Berlin:20270625T144000
DTEND;TZID=Europe/Berlin:20270625T152000
DTSTAMP:20260422T035003
CREATED:20260216T074803Z
LAST-MODIFIED:20260216T074803Z
UID:10008031-1813934400-1813936800@kropp.de
SUMMARY:Fahrbücherei
DESCRIPTION:Die Fahrbücherei ist unterwegs.
URL:https://kropp.de/veranstaltung/fahrbuecherei/2027-06-25/
LOCATION:Westersee 6\, Meggerdorf\, 24799
ATTACH;FMTTYPE=image/jpeg:https://kropp.de/wp-content/uploads/2025/12/Fahrbuecherei_Kreis_Schleswig-Flensburg.jpg
END:VEVENT
BEGIN:VEVENT
DTSTART;TZID=Europe/Berlin:20270723T105000
DTEND;TZID=Europe/Berlin:20270723T111000
DTSTAMP:20260422T035003
CREATED:20260216T074628Z
LAST-MODIFIED:20260216T074628Z
UID:10007972-1816339800-1816341000@kropp.de
SUMMARY:Fahrbücherei Meggerdorf
DESCRIPTION:Die Fahrbücherei ist unterwegs.
URL:https://kropp.de/veranstaltung/fahrbuecherei-meggerdorf-2/2027-07-23/
LOCATION:Westersee 6\, Meggerdorf\, 24799
ATTACH;FMTTYPE=image/jpeg:https://kropp.de/wp-content/uploads/2025/12/Fahrbuecherei_Kreis_Schleswig-Flensburg.jpg
END:VEVENT
BEGIN:VEVENT
DTSTART;TZID=Europe/Berlin:20270723T144000
DTEND;TZID=Europe/Berlin:20270723T152000
DTSTAMP:20260422T035003
CREATED:20260216T074803Z
LAST-MODIFIED:20260216T074803Z
UID:10008032-1816353600-1816356000@kropp.de
SUMMARY:Fahrbücherei
DESCRIPTION:Die Fahrbücherei ist unterwegs.
URL:https://kropp.de/veranstaltung/fahrbuecherei/2027-07-23/
LOCATION:Westersee 6\, Meggerdorf\, 24799
ATTACH;FMTTYPE=image/jpeg:https://kropp.de/wp-content/uploads/2025/12/Fahrbuecherei_Kreis_Schleswig-Flensburg.jpg
END:VEVENT
BEGIN:VEVENT
DTSTART;TZID=Europe/Berlin:20270827T105000
DTEND;TZID=Europe/Berlin:20270827T111000
DTSTAMP:20260422T035003
CREATED:20260216T074628Z
LAST-MODIFIED:20260216T074628Z
UID:10007973-1819363800-1819365000@kropp.de
SUMMARY:Fahrbücherei Meggerdorf
DESCRIPTION:Die Fahrbücherei ist unterwegs.
URL:https://kropp.de/veranstaltung/fahrbuecherei-meggerdorf-2/2027-08-27/
LOCATION:Westersee 6\, Meggerdorf\, 24799
ATTACH;FMTTYPE=image/jpeg:https://kropp.de/wp-content/uploads/2025/12/Fahrbuecherei_Kreis_Schleswig-Flensburg.jpg
END:VEVENT
BEGIN:VEVENT
DTSTART;TZID=Europe/Berlin:20270827T144000
DTEND;TZID=Europe/Berlin:20270827T152000
DTSTAMP:20260422T035003
CREATED:20260216T074803Z
LAST-MODIFIED:20260216T074803Z
UID:10008033-1819377600-1819380000@kropp.de
SUMMARY:Fahrbücherei
DESCRIPTION:Die Fahrbücherei ist unterwegs.
URL:https://kropp.de/veranstaltung/fahrbuecherei/2027-08-27/
LOCATION:Westersee 6\, Meggerdorf\, 24799
ATTACH;FMTTYPE=image/jpeg:https://kropp.de/wp-content/uploads/2025/12/Fahrbuecherei_Kreis_Schleswig-Flensburg.jpg
END:VEVENT
BEGIN:VEVENT
DTSTART;TZID=Europe/Berlin:20270924T105000
DTEND;TZID=Europe/Berlin:20270924T111000
DTSTAMP:20260422T035003
CREATED:20260216T074628Z
LAST-MODIFIED:20260216T074628Z
UID:10007974-1821783000-1821784200@kropp.de
SUMMARY:Fahrbücherei Meggerdorf
DESCRIPTION:Die Fahrbücherei ist unterwegs.
URL:https://kropp.de/veranstaltung/fahrbuecherei-meggerdorf-2/2027-09-24/
LOCATION:Westersee 6\, Meggerdorf\, 24799
ATTACH;FMTTYPE=image/jpeg:https://kropp.de/wp-content/uploads/2025/12/Fahrbuecherei_Kreis_Schleswig-Flensburg.jpg
END:VEVENT
BEGIN:VEVENT
DTSTART;TZID=Europe/Berlin:20270924T144000
DTEND;TZID=Europe/Berlin:20270924T152000
DTSTAMP:20260422T035003
CREATED:20260216T074803Z
LAST-MODIFIED:20260216T074803Z
UID:10008034-1821796800-1821799200@kropp.de
SUMMARY:Fahrbücherei
DESCRIPTION:Die Fahrbücherei ist unterwegs.
URL:https://kropp.de/veranstaltung/fahrbuecherei/2027-09-24/
LOCATION:Westersee 6\, Meggerdorf\, 24799
ATTACH;FMTTYPE=image/jpeg:https://kropp.de/wp-content/uploads/2025/12/Fahrbuecherei_Kreis_Schleswig-Flensburg.jpg
END:VEVENT
BEGIN:VEVENT
DTSTART;TZID=Europe/Berlin:20271022T105000
DTEND;TZID=Europe/Berlin:20271022T111000
DTSTAMP:20260422T035003
CREATED:20260216T074628Z
LAST-MODIFIED:20260216T074628Z
UID:10007975-1824202200-1824203400@kropp.de
SUMMARY:Fahrbücherei Meggerdorf
DESCRIPTION:Die Fahrbücherei ist unterwegs.
URL:https://kropp.de/veranstaltung/fahrbuecherei-meggerdorf-2/2027-10-22/
LOCATION:Westersee 6\, Meggerdorf\, 24799
ATTACH;FMTTYPE=image/jpeg:https://kropp.de/wp-content/uploads/2025/12/Fahrbuecherei_Kreis_Schleswig-Flensburg.jpg
END:VEVENT
BEGIN:VEVENT
DTSTART;TZID=Europe/Berlin:20271022T144000
DTEND;TZID=Europe/Berlin:20271022T152000
DTSTAMP:20260422T035003
CREATED:20260216T074803Z
LAST-MODIFIED:20260216T074803Z
UID:10008035-1824216000-1824218400@kropp.de
SUMMARY:Fahrbücherei
DESCRIPTION:Die Fahrbücherei ist unterwegs.
URL:https://kropp.de/veranstaltung/fahrbuecherei/2027-10-22/
LOCATION:Westersee 6\, Meggerdorf\, 24799
ATTACH;FMTTYPE=image/jpeg:https://kropp.de/wp-content/uploads/2025/12/Fahrbuecherei_Kreis_Schleswig-Flensburg.jpg
END:VEVENT
BEGIN:VEVENT
DTSTART;TZID=Europe/Berlin:20271126T105000
DTEND;TZID=Europe/Berlin:20271126T111000
DTSTAMP:20260422T035003
CREATED:20260216T074628Z
LAST-MODIFIED:20260216T074628Z
UID:10007976-1827226200-1827227400@kropp.de
SUMMARY:Fahrbücherei Meggerdorf
DESCRIPTION:Die Fahrbücherei ist unterwegs.
URL:https://kropp.de/veranstaltung/fahrbuecherei-meggerdorf-2/2027-11-26/
LOCATION:Westersee 6\, Meggerdorf\, 24799
ATTACH;FMTTYPE=image/jpeg:https://kropp.de/wp-content/uploads/2025/12/Fahrbuecherei_Kreis_Schleswig-Flensburg.jpg
END:VEVENT
BEGIN:VEVENT
DTSTART;TZID=Europe/Berlin:20271126T144000
DTEND;TZID=Europe/Berlin:20271126T152000
DTSTAMP:20260422T035003
CREATED:20260216T074803Z
LAST-MODIFIED:20260216T074803Z
UID:10008036-1827240000-1827242400@kropp.de
SUMMARY:Fahrbücherei
DESCRIPTION:Die Fahrbücherei ist unterwegs.
URL:https://kropp.de/veranstaltung/fahrbuecherei/2027-11-26/
LOCATION:Westersee 6\, Meggerdorf\, 24799
ATTACH;FMTTYPE=image/jpeg:https://kropp.de/wp-content/uploads/2025/12/Fahrbuecherei_Kreis_Schleswig-Flensburg.jpg
END:VEVENT
BEGIN:VEVENT
DTSTART;TZID=Europe/Berlin:20271224T105000
DTEND;TZID=Europe/Berlin:20271224T111000
DTSTAMP:20260422T035003
CREATED:20260216T074628Z
LAST-MODIFIED:20260216T074628Z
UID:10007977-1829645400-1829646600@kropp.de
SUMMARY:Fahrbücherei Meggerdorf
DESCRIPTION:Die Fahrbücherei ist unterwegs.
URL:https://kropp.de/veranstaltung/fahrbuecherei-meggerdorf-2/2027-12-24/
LOCATION:Westersee 6\, Meggerdorf\, 24799
ATTACH;FMTTYPE=image/jpeg:https://kropp.de/wp-content/uploads/2025/12/Fahrbuecherei_Kreis_Schleswig-Flensburg.jpg
END:VEVENT
BEGIN:VEVENT
DTSTART;TZID=Europe/Berlin:20271224T144000
DTEND;TZID=Europe/Berlin:20271224T152000
DTSTAMP:20260422T035003
CREATED:20260216T074803Z
LAST-MODIFIED:20260216T074803Z
UID:10008037-1829659200-1829661600@kropp.de
SUMMARY:Fahrbücherei
DESCRIPTION:Die Fahrbücherei ist unterwegs.
URL:https://kropp.de/veranstaltung/fahrbuecherei/2027-12-24/
LOCATION:Westersee 6\, Meggerdorf\, 24799
ATTACH;FMTTYPE=image/jpeg:https://kropp.de/wp-content/uploads/2025/12/Fahrbuecherei_Kreis_Schleswig-Flensburg.jpg
END:VEVENT
BEGIN:VEVENT
DTSTART;TZID=Europe/Berlin:20280128T105000
DTEND;TZID=Europe/Berlin:20280128T111000
DTSTAMP:20260422T035003
CREATED:20260216T074628Z
LAST-MODIFIED:20260216T074628Z
UID:10007978-1832669400-1832670600@kropp.de
SUMMARY:Fahrbücherei Meggerdorf
DESCRIPTION:Die Fahrbücherei ist unterwegs.
URL:https://kropp.de/veranstaltung/fahrbuecherei-meggerdorf-2/2028-01-28/
LOCATION:Westersee 6\, Meggerdorf\, 24799
ATTACH;FMTTYPE=image/jpeg:https://kropp.de/wp-content/uploads/2025/12/Fahrbuecherei_Kreis_Schleswig-Flensburg.jpg
END:VEVENT
BEGIN:VEVENT
DTSTART;TZID=Europe/Berlin:20280128T144000
DTEND;TZID=Europe/Berlin:20280128T152000
DTSTAMP:20260422T035003
CREATED:20260216T074803Z
LAST-MODIFIED:20260216T074803Z
UID:10008038-1832683200-1832685600@kropp.de
SUMMARY:Fahrbücherei
DESCRIPTION:Die Fahrbücherei ist unterwegs.
URL:https://kropp.de/veranstaltung/fahrbuecherei/2028-01-28/
LOCATION:Westersee 6\, Meggerdorf\, 24799
ATTACH;FMTTYPE=image/jpeg:https://kropp.de/wp-content/uploads/2025/12/Fahrbuecherei_Kreis_Schleswig-Flensburg.jpg
END:VEVENT
BEGIN:VEVENT
DTSTART;TZID=Europe/Berlin:20280225T105000
DTEND;TZID=Europe/Berlin:20280225T111000
DTSTAMP:20260422T035003
CREATED:20260216T074628Z
LAST-MODIFIED:20260216T074628Z
UID:10007979-1835088600-1835089800@kropp.de
SUMMARY:Fahrbücherei Meggerdorf
DESCRIPTION:Die Fahrbücherei ist unterwegs.
URL:https://kropp.de/veranstaltung/fahrbuecherei-meggerdorf-2/2028-02-25/
LOCATION:Westersee 6\, Meggerdorf\, 24799
ATTACH;FMTTYPE=image/jpeg:https://kropp.de/wp-content/uploads/2025/12/Fahrbuecherei_Kreis_Schleswig-Flensburg.jpg
END:VEVENT
BEGIN:VEVENT
DTSTART;TZID=Europe/Berlin:20280225T144000
DTEND;TZID=Europe/Berlin:20280225T152000
DTSTAMP:20260422T035003
CREATED:20260216T074803Z
LAST-MODIFIED:20260216T074803Z
UID:10008039-1835102400-1835104800@kropp.de
SUMMARY:Fahrbücherei
DESCRIPTION:Die Fahrbücherei ist unterwegs.
URL:https://kropp.de/veranstaltung/fahrbuecherei/2028-02-25/
LOCATION:Westersee 6\, Meggerdorf\, 24799
ATTACH;FMTTYPE=image/jpeg:https://kropp.de/wp-content/uploads/2025/12/Fahrbuecherei_Kreis_Schleswig-Flensburg.jpg
END:VEVENT
BEGIN:VEVENT
DTSTART;TZID=Europe/Berlin:20280324T105000
DTEND;TZID=Europe/Berlin:20280324T111000
DTSTAMP:20260422T035003
CREATED:20260216T074628Z
LAST-MODIFIED:20260216T074628Z
UID:10007980-1837507800-1837509000@kropp.de
SUMMARY:Fahrbücherei Meggerdorf
DESCRIPTION:Die Fahrbücherei ist unterwegs.
URL:https://kropp.de/veranstaltung/fahrbuecherei-meggerdorf-2/2028-03-24/
LOCATION:Westersee 6\, Meggerdorf\, 24799
ATTACH;FMTTYPE=image/jpeg:https://kropp.de/wp-content/uploads/2025/12/Fahrbuecherei_Kreis_Schleswig-Flensburg.jpg
END:VEVENT
BEGIN:VEVENT
DTSTART;TZID=Europe/Berlin:20280324T144000
DTEND;TZID=Europe/Berlin:20280324T152000
DTSTAMP:20260422T035003
CREATED:20260216T074803Z
LAST-MODIFIED:20260216T074803Z
UID:10008040-1837521600-1837524000@kropp.de
SUMMARY:Fahrbücherei
DESCRIPTION:Die Fahrbücherei ist unterwegs.
URL:https://kropp.de/veranstaltung/fahrbuecherei/2028-03-24/
LOCATION:Westersee 6\, Meggerdorf\, 24799
ATTACH;FMTTYPE=image/jpeg:https://kropp.de/wp-content/uploads/2025/12/Fahrbuecherei_Kreis_Schleswig-Flensburg.jpg
END:VEVENT
BEGIN:VEVENT
DTSTART;TZID=Europe/Berlin:20280428T105000
DTEND;TZID=Europe/Berlin:20280428T111000
DTSTAMP:20260422T035003
CREATED:20260216T074628Z
LAST-MODIFIED:20260216T074628Z
UID:10007981-1840531800-1840533000@kropp.de
SUMMARY:Fahrbücherei Meggerdorf
DESCRIPTION:Die Fahrbücherei ist unterwegs.
URL:https://kropp.de/veranstaltung/fahrbuecherei-meggerdorf-2/2028-04-28/
LOCATION:Westersee 6\, Meggerdorf\, 24799
ATTACH;FMTTYPE=image/jpeg:https://kropp.de/wp-content/uploads/2025/12/Fahrbuecherei_Kreis_Schleswig-Flensburg.jpg
END:VEVENT
BEGIN:VEVENT
DTSTART;TZID=Europe/Berlin:20280428T144000
DTEND;TZID=Europe/Berlin:20280428T152000
DTSTAMP:20260422T035003
CREATED:20260216T074803Z
LAST-MODIFIED:20260216T074803Z
UID:10008041-1840545600-1840548000@kropp.de
SUMMARY:Fahrbücherei
DESCRIPTION:Die Fahrbücherei ist unterwegs.
URL:https://kropp.de/veranstaltung/fahrbuecherei/2028-04-28/
LOCATION:Westersee 6\, Meggerdorf\, 24799
ATTACH;FMTTYPE=image/jpeg:https://kropp.de/wp-content/uploads/2025/12/Fahrbuecherei_Kreis_Schleswig-Flensburg.jpg
END:VEVENT
BEGIN:VEVENT
DTSTART;TZID=Europe/Berlin:20280526T105000
DTEND;TZID=Europe/Berlin:20280526T111000
DTSTAMP:20260422T035003
CREATED:20260216T074628Z
LAST-MODIFIED:20260216T074628Z
UID:10007982-1842951000-1842952200@kropp.de
SUMMARY:Fahrbücherei Meggerdorf
DESCRIPTION:Die Fahrbücherei ist unterwegs.
URL:https://kropp.de/veranstaltung/fahrbuecherei-meggerdorf-2/2028-05-26/
LOCATION:Westersee 6\, Meggerdorf\, 24799
ATTACH;FMTTYPE=image/jpeg:https://kropp.de/wp-content/uploads/2025/12/Fahrbuecherei_Kreis_Schleswig-Flensburg.jpg
END:VEVENT
BEGIN:VEVENT
DTSTART;TZID=Europe/Berlin:20280526T144000
DTEND;TZID=Europe/Berlin:20280526T152000
DTSTAMP:20260422T035003
CREATED:20260216T074803Z
LAST-MODIFIED:20260216T074803Z
UID:10008042-1842964800-1842967200@kropp.de
SUMMARY:Fahrbücherei
DESCRIPTION:Die Fahrbücherei ist unterwegs.
URL:https://kropp.de/veranstaltung/fahrbuecherei/2028-05-26/
LOCATION:Westersee 6\, Meggerdorf\, 24799
ATTACH;FMTTYPE=image/jpeg:https://kropp.de/wp-content/uploads/2025/12/Fahrbuecherei_Kreis_Schleswig-Flensburg.jpg
END:VEVENT
BEGIN:VEVENT
DTSTART;TZID=Europe/Berlin:20280623T105000
DTEND;TZID=Europe/Berlin:20280623T111000
DTSTAMP:20260422T035003
CREATED:20260216T074628Z
LAST-MODIFIED:20260216T074628Z
UID:10007983-1845370200-1845371400@kropp.de
SUMMARY:Fahrbücherei Meggerdorf
DESCRIPTION:Die Fahrbücherei ist unterwegs.
URL:https://kropp.de/veranstaltung/fahrbuecherei-meggerdorf-2/2028-06-23/
LOCATION:Westersee 6\, Meggerdorf\, 24799
ATTACH;FMTTYPE=image/jpeg:https://kropp.de/wp-content/uploads/2025/12/Fahrbuecherei_Kreis_Schleswig-Flensburg.jpg
END:VEVENT
BEGIN:VEVENT
DTSTART;TZID=Europe/Berlin:20280623T144000
DTEND;TZID=Europe/Berlin:20280623T152000
DTSTAMP:20260422T035003
CREATED:20260216T074803Z
LAST-MODIFIED:20260216T074803Z
UID:10008043-1845384000-1845386400@kropp.de
SUMMARY:Fahrbücherei
DESCRIPTION:Die Fahrbücherei ist unterwegs.
URL:https://kropp.de/veranstaltung/fahrbuecherei/2028-06-23/
LOCATION:Westersee 6\, Meggerdorf\, 24799
ATTACH;FMTTYPE=image/jpeg:https://kropp.de/wp-content/uploads/2025/12/Fahrbuecherei_Kreis_Schleswig-Flensburg.jpg
END:VEVENT
END:VCALENDAR