BEGIN:VCALENDAR
VERSION:2.0
PRODID:-//Gemeinde Kropp - ECPv6.15.20//NONSGML v1.0//EN
CALSCALE:GREGORIAN
METHOD:PUBLISH
X-ORIGINAL-URL:https://kropp.de
X-WR-CALDESC:Veranstaltungen für Gemeinde Kropp
REFRESH-INTERVAL;VALUE=DURATION:PT1H
X-Robots-Tag:noindex
X-PUBLISHED-TTL:PT1H
BEGIN:VTIMEZONE
TZID:Europe/Berlin
BEGIN:DAYLIGHT
TZOFFSETFROM:+0100
TZOFFSETTO:+0200
TZNAME:CEST
DTSTART:20280326T010000
END:DAYLIGHT
BEGIN:STANDARD
TZOFFSETFROM:+0200
TZOFFSETTO:+0100
TZNAME:CET
DTSTART:20281029T010000
END:STANDARD
BEGIN:DAYLIGHT
TZOFFSETFROM:+0100
TZOFFSETTO:+0200
TZNAME:CEST
DTSTART:20290325T010000
END:DAYLIGHT
BEGIN:STANDARD
TZOFFSETFROM:+0200
TZOFFSETTO:+0100
TZNAME:CET
DTSTART:20291028T010000
END:STANDARD
BEGIN:DAYLIGHT
TZOFFSETFROM:+0100
TZOFFSETTO:+0200
TZNAME:CEST
DTSTART:20300331T010000
END:DAYLIGHT
BEGIN:STANDARD
TZOFFSETFROM:+0200
TZOFFSETTO:+0100
TZNAME:CET
DTSTART:20301027T010000
END:STANDARD
BEGIN:DAYLIGHT
TZOFFSETFROM:+0100
TZOFFSETTO:+0200
TZNAME:CEST
DTSTART:20310330T010000
END:DAYLIGHT
BEGIN:STANDARD
TZOFFSETFROM:+0200
TZOFFSETTO:+0100
TZNAME:CET
DTSTART:20311026T010000
END:STANDARD
END:VTIMEZONE
BEGIN:VEVENT
DTSTART;TZID=Europe/Berlin:20290427T144000
DTEND;TZID=Europe/Berlin:20290427T152000
DTSTAMP:20260424T130241
CREATED:20260216T074803Z
LAST-MODIFIED:20260216T074803Z
UID:10008053-1871995200-1871997600@kropp.de
SUMMARY:Fahrbücherei
DESCRIPTION:Die Fahrbücherei ist unterwegs.
URL:https://kropp.de/veranstaltung/fahrbuecherei/2029-04-27/
LOCATION:Westersee 6\, Meggerdorf\, 24799
ATTACH;FMTTYPE=image/jpeg:https://kropp.de/wp-content/uploads/2025/12/Fahrbuecherei_Kreis_Schleswig-Flensburg.jpg
END:VEVENT
BEGIN:VEVENT
DTSTART;TZID=Europe/Berlin:20290525T105000
DTEND;TZID=Europe/Berlin:20290525T111000
DTSTAMP:20260424T130241
CREATED:20260216T074628Z
LAST-MODIFIED:20260216T074628Z
UID:10007994-1874400600-1874401800@kropp.de
SUMMARY:Fahrbücherei Meggerdorf
DESCRIPTION:Die Fahrbücherei ist unterwegs.
URL:https://kropp.de/veranstaltung/fahrbuecherei-meggerdorf-2/2029-05-25/
LOCATION:Westersee 6\, Meggerdorf\, 24799
ATTACH;FMTTYPE=image/jpeg:https://kropp.de/wp-content/uploads/2025/12/Fahrbuecherei_Kreis_Schleswig-Flensburg.jpg
END:VEVENT
BEGIN:VEVENT
DTSTART;TZID=Europe/Berlin:20290525T144000
DTEND;TZID=Europe/Berlin:20290525T152000
DTSTAMP:20260424T130241
CREATED:20260216T074803Z
LAST-MODIFIED:20260216T074803Z
UID:10008054-1874414400-1874416800@kropp.de
SUMMARY:Fahrbücherei
DESCRIPTION:Die Fahrbücherei ist unterwegs.
URL:https://kropp.de/veranstaltung/fahrbuecherei/2029-05-25/
LOCATION:Westersee 6\, Meggerdorf\, 24799
ATTACH;FMTTYPE=image/jpeg:https://kropp.de/wp-content/uploads/2025/12/Fahrbuecherei_Kreis_Schleswig-Flensburg.jpg
END:VEVENT
BEGIN:VEVENT
DTSTART;TZID=Europe/Berlin:20290622T105000
DTEND;TZID=Europe/Berlin:20290622T111000
DTSTAMP:20260424T130241
CREATED:20260216T074628Z
LAST-MODIFIED:20260216T074628Z
UID:10007995-1876819800-1876821000@kropp.de
SUMMARY:Fahrbücherei Meggerdorf
DESCRIPTION:Die Fahrbücherei ist unterwegs.
URL:https://kropp.de/veranstaltung/fahrbuecherei-meggerdorf-2/2029-06-22/
LOCATION:Westersee 6\, Meggerdorf\, 24799
ATTACH;FMTTYPE=image/jpeg:https://kropp.de/wp-content/uploads/2025/12/Fahrbuecherei_Kreis_Schleswig-Flensburg.jpg
END:VEVENT
BEGIN:VEVENT
DTSTART;TZID=Europe/Berlin:20290622T144000
DTEND;TZID=Europe/Berlin:20290622T152000
DTSTAMP:20260424T130241
CREATED:20260216T074803Z
LAST-MODIFIED:20260216T074803Z
UID:10008055-1876833600-1876836000@kropp.de
SUMMARY:Fahrbücherei
DESCRIPTION:Die Fahrbücherei ist unterwegs.
URL:https://kropp.de/veranstaltung/fahrbuecherei/2029-06-22/
LOCATION:Westersee 6\, Meggerdorf\, 24799
ATTACH;FMTTYPE=image/jpeg:https://kropp.de/wp-content/uploads/2025/12/Fahrbuecherei_Kreis_Schleswig-Flensburg.jpg
END:VEVENT
BEGIN:VEVENT
DTSTART;TZID=Europe/Berlin:20290727T105000
DTEND;TZID=Europe/Berlin:20290727T111000
DTSTAMP:20260424T130241
CREATED:20260216T074628Z
LAST-MODIFIED:20260216T074628Z
UID:10007996-1879843800-1879845000@kropp.de
SUMMARY:Fahrbücherei Meggerdorf
DESCRIPTION:Die Fahrbücherei ist unterwegs.
URL:https://kropp.de/veranstaltung/fahrbuecherei-meggerdorf-2/2029-07-27/
LOCATION:Westersee 6\, Meggerdorf\, 24799
ATTACH;FMTTYPE=image/jpeg:https://kropp.de/wp-content/uploads/2025/12/Fahrbuecherei_Kreis_Schleswig-Flensburg.jpg
END:VEVENT
BEGIN:VEVENT
DTSTART;TZID=Europe/Berlin:20290727T144000
DTEND;TZID=Europe/Berlin:20290727T152000
DTSTAMP:20260424T130241
CREATED:20260216T074803Z
LAST-MODIFIED:20260216T074803Z
UID:10008056-1879857600-1879860000@kropp.de
SUMMARY:Fahrbücherei
DESCRIPTION:Die Fahrbücherei ist unterwegs.
URL:https://kropp.de/veranstaltung/fahrbuecherei/2029-07-27/
LOCATION:Westersee 6\, Meggerdorf\, 24799
ATTACH;FMTTYPE=image/jpeg:https://kropp.de/wp-content/uploads/2025/12/Fahrbuecherei_Kreis_Schleswig-Flensburg.jpg
END:VEVENT
BEGIN:VEVENT
DTSTART;TZID=Europe/Berlin:20290824T105000
DTEND;TZID=Europe/Berlin:20290824T111000
DTSTAMP:20260424T130241
CREATED:20260216T074628Z
LAST-MODIFIED:20260216T074628Z
UID:10007997-1882263000-1882264200@kropp.de
SUMMARY:Fahrbücherei Meggerdorf
DESCRIPTION:Die Fahrbücherei ist unterwegs.
URL:https://kropp.de/veranstaltung/fahrbuecherei-meggerdorf-2/2029-08-24/
LOCATION:Westersee 6\, Meggerdorf\, 24799
ATTACH;FMTTYPE=image/jpeg:https://kropp.de/wp-content/uploads/2025/12/Fahrbuecherei_Kreis_Schleswig-Flensburg.jpg
END:VEVENT
BEGIN:VEVENT
DTSTART;TZID=Europe/Berlin:20290824T144000
DTEND;TZID=Europe/Berlin:20290824T152000
DTSTAMP:20260424T130241
CREATED:20260216T074803Z
LAST-MODIFIED:20260216T074803Z
UID:10008057-1882276800-1882279200@kropp.de
SUMMARY:Fahrbücherei
DESCRIPTION:Die Fahrbücherei ist unterwegs.
URL:https://kropp.de/veranstaltung/fahrbuecherei/2029-08-24/
LOCATION:Westersee 6\, Meggerdorf\, 24799
ATTACH;FMTTYPE=image/jpeg:https://kropp.de/wp-content/uploads/2025/12/Fahrbuecherei_Kreis_Schleswig-Flensburg.jpg
END:VEVENT
BEGIN:VEVENT
DTSTART;TZID=Europe/Berlin:20290928T105000
DTEND;TZID=Europe/Berlin:20290928T111000
DTSTAMP:20260424T130241
CREATED:20260216T074628Z
LAST-MODIFIED:20260216T074628Z
UID:10007998-1885287000-1885288200@kropp.de
SUMMARY:Fahrbücherei Meggerdorf
DESCRIPTION:Die Fahrbücherei ist unterwegs.
URL:https://kropp.de/veranstaltung/fahrbuecherei-meggerdorf-2/2029-09-28/
LOCATION:Westersee 6\, Meggerdorf\, 24799
ATTACH;FMTTYPE=image/jpeg:https://kropp.de/wp-content/uploads/2025/12/Fahrbuecherei_Kreis_Schleswig-Flensburg.jpg
END:VEVENT
BEGIN:VEVENT
DTSTART;TZID=Europe/Berlin:20290928T144000
DTEND;TZID=Europe/Berlin:20290928T152000
DTSTAMP:20260424T130241
CREATED:20260216T074803Z
LAST-MODIFIED:20260216T074803Z
UID:10008058-1885300800-1885303200@kropp.de
SUMMARY:Fahrbücherei
DESCRIPTION:Die Fahrbücherei ist unterwegs.
URL:https://kropp.de/veranstaltung/fahrbuecherei/2029-09-28/
LOCATION:Westersee 6\, Meggerdorf\, 24799
ATTACH;FMTTYPE=image/jpeg:https://kropp.de/wp-content/uploads/2025/12/Fahrbuecherei_Kreis_Schleswig-Flensburg.jpg
END:VEVENT
BEGIN:VEVENT
DTSTART;TZID=Europe/Berlin:20291026T105000
DTEND;TZID=Europe/Berlin:20291026T111000
DTSTAMP:20260424T130241
CREATED:20260216T074628Z
LAST-MODIFIED:20260216T074628Z
UID:10007999-1887706200-1887707400@kropp.de
SUMMARY:Fahrbücherei Meggerdorf
DESCRIPTION:Die Fahrbücherei ist unterwegs.
URL:https://kropp.de/veranstaltung/fahrbuecherei-meggerdorf-2/2029-10-26/
LOCATION:Westersee 6\, Meggerdorf\, 24799
ATTACH;FMTTYPE=image/jpeg:https://kropp.de/wp-content/uploads/2025/12/Fahrbuecherei_Kreis_Schleswig-Flensburg.jpg
END:VEVENT
BEGIN:VEVENT
DTSTART;TZID=Europe/Berlin:20291026T144000
DTEND;TZID=Europe/Berlin:20291026T152000
DTSTAMP:20260424T130241
CREATED:20260216T074803Z
LAST-MODIFIED:20260216T074803Z
UID:10008059-1887720000-1887722400@kropp.de
SUMMARY:Fahrbücherei
DESCRIPTION:Die Fahrbücherei ist unterwegs.
URL:https://kropp.de/veranstaltung/fahrbuecherei/2029-10-26/
LOCATION:Westersee 6\, Meggerdorf\, 24799
ATTACH;FMTTYPE=image/jpeg:https://kropp.de/wp-content/uploads/2025/12/Fahrbuecherei_Kreis_Schleswig-Flensburg.jpg
END:VEVENT
BEGIN:VEVENT
DTSTART;TZID=Europe/Berlin:20291123T105000
DTEND;TZID=Europe/Berlin:20291123T111000
DTSTAMP:20260424T130241
CREATED:20260216T074628Z
LAST-MODIFIED:20260216T074628Z
UID:10008000-1890125400-1890126600@kropp.de
SUMMARY:Fahrbücherei Meggerdorf
DESCRIPTION:Die Fahrbücherei ist unterwegs.
URL:https://kropp.de/veranstaltung/fahrbuecherei-meggerdorf-2/2029-11-23/
LOCATION:Westersee 6\, Meggerdorf\, 24799
ATTACH;FMTTYPE=image/jpeg:https://kropp.de/wp-content/uploads/2025/12/Fahrbuecherei_Kreis_Schleswig-Flensburg.jpg
END:VEVENT
BEGIN:VEVENT
DTSTART;TZID=Europe/Berlin:20291123T144000
DTEND;TZID=Europe/Berlin:20291123T152000
DTSTAMP:20260424T130241
CREATED:20260216T074803Z
LAST-MODIFIED:20260216T074803Z
UID:10008060-1890139200-1890141600@kropp.de
SUMMARY:Fahrbücherei
DESCRIPTION:Die Fahrbücherei ist unterwegs.
URL:https://kropp.de/veranstaltung/fahrbuecherei/2029-11-23/
LOCATION:Westersee 6\, Meggerdorf\, 24799
ATTACH;FMTTYPE=image/jpeg:https://kropp.de/wp-content/uploads/2025/12/Fahrbuecherei_Kreis_Schleswig-Flensburg.jpg
END:VEVENT
BEGIN:VEVENT
DTSTART;TZID=Europe/Berlin:20291228T105000
DTEND;TZID=Europe/Berlin:20291228T111000
DTSTAMP:20260424T130241
CREATED:20260216T074628Z
LAST-MODIFIED:20260216T074628Z
UID:10008001-1893149400-1893150600@kropp.de
SUMMARY:Fahrbücherei Meggerdorf
DESCRIPTION:Die Fahrbücherei ist unterwegs.
URL:https://kropp.de/veranstaltung/fahrbuecherei-meggerdorf-2/2029-12-28/
LOCATION:Westersee 6\, Meggerdorf\, 24799
ATTACH;FMTTYPE=image/jpeg:https://kropp.de/wp-content/uploads/2025/12/Fahrbuecherei_Kreis_Schleswig-Flensburg.jpg
END:VEVENT
BEGIN:VEVENT
DTSTART;TZID=Europe/Berlin:20291228T144000
DTEND;TZID=Europe/Berlin:20291228T152000
DTSTAMP:20260424T130241
CREATED:20260216T074803Z
LAST-MODIFIED:20260216T074803Z
UID:10008061-1893163200-1893165600@kropp.de
SUMMARY:Fahrbücherei
DESCRIPTION:Die Fahrbücherei ist unterwegs.
URL:https://kropp.de/veranstaltung/fahrbuecherei/2029-12-28/
LOCATION:Westersee 6\, Meggerdorf\, 24799
ATTACH;FMTTYPE=image/jpeg:https://kropp.de/wp-content/uploads/2025/12/Fahrbuecherei_Kreis_Schleswig-Flensburg.jpg
END:VEVENT
BEGIN:VEVENT
DTSTART;TZID=Europe/Berlin:20300125T105000
DTEND;TZID=Europe/Berlin:20300125T111000
DTSTAMP:20260424T130241
CREATED:20260216T074628Z
LAST-MODIFIED:20260216T074628Z
UID:10008002-1895568600-1895569800@kropp.de
SUMMARY:Fahrbücherei Meggerdorf
DESCRIPTION:Die Fahrbücherei ist unterwegs.
URL:https://kropp.de/veranstaltung/fahrbuecherei-meggerdorf-2/2030-01-25/
LOCATION:Westersee 6\, Meggerdorf\, 24799
ATTACH;FMTTYPE=image/jpeg:https://kropp.de/wp-content/uploads/2025/12/Fahrbuecherei_Kreis_Schleswig-Flensburg.jpg
END:VEVENT
BEGIN:VEVENT
DTSTART;TZID=Europe/Berlin:20300125T144000
DTEND;TZID=Europe/Berlin:20300125T152000
DTSTAMP:20260424T130241
CREATED:20260216T074803Z
LAST-MODIFIED:20260216T074803Z
UID:10008062-1895582400-1895584800@kropp.de
SUMMARY:Fahrbücherei
DESCRIPTION:Die Fahrbücherei ist unterwegs.
URL:https://kropp.de/veranstaltung/fahrbuecherei/2030-01-25/
LOCATION:Westersee 6\, Meggerdorf\, 24799
ATTACH;FMTTYPE=image/jpeg:https://kropp.de/wp-content/uploads/2025/12/Fahrbuecherei_Kreis_Schleswig-Flensburg.jpg
END:VEVENT
BEGIN:VEVENT
DTSTART;TZID=Europe/Berlin:20300222T105000
DTEND;TZID=Europe/Berlin:20300222T111000
DTSTAMP:20260424T130241
CREATED:20260216T074628Z
LAST-MODIFIED:20260216T074628Z
UID:10008003-1897987800-1897989000@kropp.de
SUMMARY:Fahrbücherei Meggerdorf
DESCRIPTION:Die Fahrbücherei ist unterwegs.
URL:https://kropp.de/veranstaltung/fahrbuecherei-meggerdorf-2/2030-02-22/
LOCATION:Westersee 6\, Meggerdorf\, 24799
ATTACH;FMTTYPE=image/jpeg:https://kropp.de/wp-content/uploads/2025/12/Fahrbuecherei_Kreis_Schleswig-Flensburg.jpg
END:VEVENT
BEGIN:VEVENT
DTSTART;TZID=Europe/Berlin:20300222T144000
DTEND;TZID=Europe/Berlin:20300222T152000
DTSTAMP:20260424T130241
CREATED:20260216T074803Z
LAST-MODIFIED:20260216T074803Z
UID:10008063-1898001600-1898004000@kropp.de
SUMMARY:Fahrbücherei
DESCRIPTION:Die Fahrbücherei ist unterwegs.
URL:https://kropp.de/veranstaltung/fahrbuecherei/2030-02-22/
LOCATION:Westersee 6\, Meggerdorf\, 24799
ATTACH;FMTTYPE=image/jpeg:https://kropp.de/wp-content/uploads/2025/12/Fahrbuecherei_Kreis_Schleswig-Flensburg.jpg
END:VEVENT
BEGIN:VEVENT
DTSTART;TZID=Europe/Berlin:20300322T105000
DTEND;TZID=Europe/Berlin:20300322T111000
DTSTAMP:20260424T130241
CREATED:20260216T074628Z
LAST-MODIFIED:20260216T074628Z
UID:10008004-1900407000-1900408200@kropp.de
SUMMARY:Fahrbücherei Meggerdorf
DESCRIPTION:Die Fahrbücherei ist unterwegs.
URL:https://kropp.de/veranstaltung/fahrbuecherei-meggerdorf-2/2030-03-22/
LOCATION:Westersee 6\, Meggerdorf\, 24799
ATTACH;FMTTYPE=image/jpeg:https://kropp.de/wp-content/uploads/2025/12/Fahrbuecherei_Kreis_Schleswig-Flensburg.jpg
END:VEVENT
BEGIN:VEVENT
DTSTART;TZID=Europe/Berlin:20300322T144000
DTEND;TZID=Europe/Berlin:20300322T152000
DTSTAMP:20260424T130241
CREATED:20260216T074803Z
LAST-MODIFIED:20260216T074803Z
UID:10008064-1900420800-1900423200@kropp.de
SUMMARY:Fahrbücherei
DESCRIPTION:Die Fahrbücherei ist unterwegs.
URL:https://kropp.de/veranstaltung/fahrbuecherei/2030-03-22/
LOCATION:Westersee 6\, Meggerdorf\, 24799
ATTACH;FMTTYPE=image/jpeg:https://kropp.de/wp-content/uploads/2025/12/Fahrbuecherei_Kreis_Schleswig-Flensburg.jpg
END:VEVENT
BEGIN:VEVENT
DTSTART;TZID=Europe/Berlin:20300426T105000
DTEND;TZID=Europe/Berlin:20300426T111000
DTSTAMP:20260424T130241
CREATED:20260216T074628Z
LAST-MODIFIED:20260216T074628Z
UID:10008005-1903431000-1903432200@kropp.de
SUMMARY:Fahrbücherei Meggerdorf
DESCRIPTION:Die Fahrbücherei ist unterwegs.
URL:https://kropp.de/veranstaltung/fahrbuecherei-meggerdorf-2/2030-04-26/
LOCATION:Westersee 6\, Meggerdorf\, 24799
ATTACH;FMTTYPE=image/jpeg:https://kropp.de/wp-content/uploads/2025/12/Fahrbuecherei_Kreis_Schleswig-Flensburg.jpg
END:VEVENT
BEGIN:VEVENT
DTSTART;TZID=Europe/Berlin:20300426T144000
DTEND;TZID=Europe/Berlin:20300426T152000
DTSTAMP:20260424T130241
CREATED:20260216T074803Z
LAST-MODIFIED:20260216T074803Z
UID:10008065-1903444800-1903447200@kropp.de
SUMMARY:Fahrbücherei
DESCRIPTION:Die Fahrbücherei ist unterwegs.
URL:https://kropp.de/veranstaltung/fahrbuecherei/2030-04-26/
LOCATION:Westersee 6\, Meggerdorf\, 24799
ATTACH;FMTTYPE=image/jpeg:https://kropp.de/wp-content/uploads/2025/12/Fahrbuecherei_Kreis_Schleswig-Flensburg.jpg
END:VEVENT
BEGIN:VEVENT
DTSTART;TZID=Europe/Berlin:20300524T105000
DTEND;TZID=Europe/Berlin:20300524T111000
DTSTAMP:20260424T130241
CREATED:20260216T074628Z
LAST-MODIFIED:20260216T074628Z
UID:10008006-1905850200-1905851400@kropp.de
SUMMARY:Fahrbücherei Meggerdorf
DESCRIPTION:Die Fahrbücherei ist unterwegs.
URL:https://kropp.de/veranstaltung/fahrbuecherei-meggerdorf-2/2030-05-24/
LOCATION:Westersee 6\, Meggerdorf\, 24799
ATTACH;FMTTYPE=image/jpeg:https://kropp.de/wp-content/uploads/2025/12/Fahrbuecherei_Kreis_Schleswig-Flensburg.jpg
END:VEVENT
BEGIN:VEVENT
DTSTART;TZID=Europe/Berlin:20300524T144000
DTEND;TZID=Europe/Berlin:20300524T152000
DTSTAMP:20260424T130241
CREATED:20260216T074803Z
LAST-MODIFIED:20260216T074803Z
UID:10008066-1905864000-1905866400@kropp.de
SUMMARY:Fahrbücherei
DESCRIPTION:Die Fahrbücherei ist unterwegs.
URL:https://kropp.de/veranstaltung/fahrbuecherei/2030-05-24/
LOCATION:Westersee 6\, Meggerdorf\, 24799
ATTACH;FMTTYPE=image/jpeg:https://kropp.de/wp-content/uploads/2025/12/Fahrbuecherei_Kreis_Schleswig-Flensburg.jpg
END:VEVENT
BEGIN:VEVENT
DTSTART;TZID=Europe/Berlin:20300628T105000
DTEND;TZID=Europe/Berlin:20300628T111000
DTSTAMP:20260424T130241
CREATED:20260216T074628Z
LAST-MODIFIED:20260216T074628Z
UID:10008007-1908874200-1908875400@kropp.de
SUMMARY:Fahrbücherei Meggerdorf
DESCRIPTION:Die Fahrbücherei ist unterwegs.
URL:https://kropp.de/veranstaltung/fahrbuecherei-meggerdorf-2/2030-06-28/
LOCATION:Westersee 6\, Meggerdorf\, 24799
ATTACH;FMTTYPE=image/jpeg:https://kropp.de/wp-content/uploads/2025/12/Fahrbuecherei_Kreis_Schleswig-Flensburg.jpg
END:VEVENT
BEGIN:VEVENT
DTSTART;TZID=Europe/Berlin:20300628T144000
DTEND;TZID=Europe/Berlin:20300628T152000
DTSTAMP:20260424T130241
CREATED:20260216T074803Z
LAST-MODIFIED:20260216T074803Z
UID:10008067-1908888000-1908890400@kropp.de
SUMMARY:Fahrbücherei
DESCRIPTION:Die Fahrbücherei ist unterwegs.
URL:https://kropp.de/veranstaltung/fahrbuecherei/2030-06-28/
LOCATION:Westersee 6\, Meggerdorf\, 24799
ATTACH;FMTTYPE=image/jpeg:https://kropp.de/wp-content/uploads/2025/12/Fahrbuecherei_Kreis_Schleswig-Flensburg.jpg
END:VEVENT
BEGIN:VEVENT
DTSTART;TZID=Europe/Berlin:20300726T105000
DTEND;TZID=Europe/Berlin:20300726T111000
DTSTAMP:20260424T130241
CREATED:20260216T074628Z
LAST-MODIFIED:20260216T074628Z
UID:10008008-1911293400-1911294600@kropp.de
SUMMARY:Fahrbücherei Meggerdorf
DESCRIPTION:Die Fahrbücherei ist unterwegs.
URL:https://kropp.de/veranstaltung/fahrbuecherei-meggerdorf-2/2030-07-26/
LOCATION:Westersee 6\, Meggerdorf\, 24799
ATTACH;FMTTYPE=image/jpeg:https://kropp.de/wp-content/uploads/2025/12/Fahrbuecherei_Kreis_Schleswig-Flensburg.jpg
END:VEVENT
END:VCALENDAR